BEGIN:VCALENDAR
VERSION:2.0
PRODID:-//Sabre//Sabre VObject 4.5.8//EN
CALSCALE:GREGORIAN
LAST-MODIFIED:20220914T235541Z
BEGIN:VTIMEZONE
TZID:America/Vancouver
BEGIN:STANDARD
DTSTART:20211107T090000
TZOFFSETFROM:-0700
TZOFFSETTO:-0800
TZNAME:PST
END:STANDARD
BEGIN:STANDARD
DTSTART:20221106T090000
TZOFFSETFROM:-0700
TZOFFSETTO:-0800
TZNAME:PST
END:STANDARD
BEGIN:DAYLIGHT
DTSTART:20220313T100000
TZOFFSETFROM:-0800
TZOFFSETTO:-0700
TZNAME:PDT
END:DAYLIGHT
END:VTIMEZONE
BEGIN:VEVENT
UID:93376b45-77db-4261-8183-bc4721ae10b2
DTSTAMP:20220914T235541Z
SUMMARY:WebViews - Usages & Challenges
DTSTART;TZID=America/Vancouver:20220914T163000
DTEND;TZID=America/Vancouver:20220914T173000
DESCRIPTION:https://www.w3.org/events/meetings/93376b45-77db-4261-8183-bc47
 21ae10b2/\n\nPresent the findings of the WebView CG & have an open discuss
 ion on further use-cases and challenges\n\nAgenda\n\n**Facilitators & spea
 kers**: Rayan Kanso\, An Qing\n\n**Session type**: brief presentation + op
 en discussion\n\n**Summary**: Present the findings of the WebView CG & hav
 e an open discussion on further use-cases and challenges\n\n**Goals**:\n- 
 Collect opinions & feedback on the report.\n\nJoining Instructions: https:
 //us02web.zoom.us/j/6736011120?pwd=Njhqam13TWwrUzE2d0owRjF6Zlhqdz09\n\nCha
 t\n\nhttps://irc.w3.org/?channels=%23webview-cg
STATUS:CONFIRMED
CREATED:20220909T111715Z
LAST-MODIFIED:20220914T235541Z
SEQUENCE:1
ORGANIZER;CN=W3C Calendar;PARTSTAT=ACCEPTED;ROLE=NON-PARTICIPANT:mailto:nor
 eply@w3.org
ATTENDEE;CN=Qing An:mailto:anqing.aq@alibaba-inc.com
ATTENDEE;CN=Aykut Bulut:mailto:aykutb@google.com
ATTENDEE;CN=christin cai:mailto:christincai@tencent.com
ATTENDEE;CN=Karl Dubost:mailto:karl@la-grange.net
ATTENDEE;CN=Rob Eisenberg:mailto:rob@bluespire.com
ATTENDEE;CN=David Hall:mailto:david_hall@apple.com
ATTENDEE;CN=Dominique Hazaël-Massieux:mailto:dom@w3.org
ATTENDEE;CN=Ivan Herman:mailto:ivan@w3.org
ATTENDEE;CN=Hakan Isbiliroglu:mailto:hisbilir@google.com
ATTENDEE;CN=Jeff Jaffe:mailto:jaffe02445@gmail.com
ATTENDEE;CN=Andy Luhrs:mailto:aluhrs@microsoft.com
ATTENDEE;CN=Philipp Pfeiffenberger:mailto:philippp@google.com
ATTENDEE;CN=Vincent Scheib:mailto:scheib@google.com
ATTENDEE;CN=Cynthia Shelly:mailto:buphie@gmail.com
ATTENDEE;CN=Sam Sneddon:mailto:gsnedders@apple.com
ATTENDEE;CN=Jason Waterman:mailto:jwaterman@mozilla.com
LOCATION:Parksville — North Tower 3rd floor
CATEGORIES:TPAC 2022,Breakout Sessions
END:VEVENT
END:VCALENDAR
