BEGIN:VCALENDAR
VERSION:2.0
PRODID:-//Sabre//Sabre VObject 4.5.8//EN
CALSCALE:GREGORIAN
LAST-MODIFIED:20260316T160022Z
BEGIN:VTIMEZONE
TZID:Etc/UTC
BEGIN:STANDARD
DTSTART:20230318T140000
TZOFFSETFROM:+0000
TZOFFSETTO:+0000
TZNAME:UTC
END:STANDARD
END:VTIMEZONE
BEGIN:VEVENT
UID:9330e02e-2f20-4cb0-9fe3-22fd9dcdb629
DTSTAMP:20260316T160022Z
SUMMARY:Privacy Principles for the Web
DTSTART;TZID=Etc/UTC:20240312T140000
DTEND;TZID=Etc/UTC:20240312T150000
DESCRIPTION:https://www.w3.org/events/meetings/9330e02e-2f20-4cb0-9fe3-22fd
 9dcdb629/\n\nThe Technical Architecture Group Privacy [task force](https:/
 /github.com/w3ctag/privacy-principles)\, together with participation from 
 Privacy Interest Group\, has been working on a set of [privacy principles]
 (https://www.w3.org/TR/ethical-web-principles/) for the web. This is inten
 ded to be used by browser developers\, authors of web specifications\, rev
 iewers of web specifications (such as the TAG and other groups participati
 ng in horizontal review)\, and web developers themselves. Now this documen
 t is going through wide review in advance of publication as a W3C Statemen
 t. We will present the principles and then have an open discussion.\n\n**G
 oal(s):**\nIncrease awareness of the Privacy Principles\, answer questions
 \, gather feedback on how to improve the draft.\n\nAgenda\n\n* Brief [pres
 entation](https://github.com/w3ctag/privacy-principles/blob/main/meetings/
 2024-03-breakouts/slides.html) of an overview of the principles\n* Guided 
 discussion\n\n**Materials:**\n- [Session proposal on GitHub](https://githu
 b.com/w3c/breakouts-day-2024/issues/16)
STATUS:CONFIRMED
CREATED:20240302T122845Z
LAST-MODIFIED:20260316T160022Z
SEQUENCE:5
ORGANIZER;CN=W3C Calendar;PARTSTAT=ACCEPTED;ROLE=NON-PARTICIPANT:mailto:nor
 eply@w3.org
LOCATION:Gamba
CATEGORIES:W3C Breakouts Day 2024,Breakout Sessions
END:VEVENT
END:VCALENDAR
