BEGIN:VCALENDAR
VERSION:2.0
PRODID:-//Sabre//Sabre VObject 4.5.8//EN
CALSCALE:GREGORIAN
LAST-MODIFIED:20250303T155240Z
BEGIN:VTIMEZONE
TZID:America/New_York
X-MICROSOFT-CDO-TZID:10
BEGIN:STANDARD
DTSTART:20241103T060000
TZOFFSETFROM:-0400
TZOFFSETTO:-0500
TZNAME:EST
END:STANDARD
BEGIN:STANDARD
DTSTART:20251102T060000
TZOFFSETFROM:-0400
TZOFFSETTO:-0500
TZNAME:EST
END:STANDARD
BEGIN:DAYLIGHT
DTSTART:20250309T070000
TZOFFSETFROM:-0500
TZOFFSETTO:-0400
TZNAME:EDT
END:DAYLIGHT
END:VTIMEZONE
BEGIN:VEVENT
UID:9220f60e-d54a-48a8-8878-81b476126acb
DTSTAMP:20250303T155240Z
SUMMARY:ACT Task Force
DTSTART;TZID=America/New_York:20250313T100000
DTEND;TZID=America/New_York:20250313T110000
DESCRIPTION:https://www.w3.org/events/meetings/9220f60e-d54a-48a8-8878-81b4
 76126acb/20250313T100000/\n\nCanceling 13 March AT Task Force meeting beca
 use most people will be at CSUN that week.\n\nAgenda: https://www.w3.org/W
 AI/GL/task-forces/conformance-testing/wiki/ACT_Task_Force_Meeting_Agenda\n
 \nAgenda\n\nComposite rule applicability\nAnnual Rule Reviews
STATUS:CANCELLED
CREATED:20250303T155239Z
LAST-MODIFIED:20250303T155240Z
SEQUENCE:7
ORGANIZER;CN=W3C Calendar;PARTSTAT=ACCEPTED;ROLE=NON-PARTICIPANT:mailto:nor
 eply@w3.org
ATTENDEE;CUTYPE=GROUP;ROLE=OPT-PARTICIPANT;RSVP=FALSE;CN=Accessibility Conf
 ormance Testing (ACT) Task Force:mailto:public-wcag-act@w3.org
RECURRENCE-ID;TZID=America/New_York:20250313T100000
END:VEVENT
END:VCALENDAR
