BEGIN:VCALENDAR
VERSION:2.0
PRODID:-//Sabre//Sabre VObject 4.5.8//EN
CALSCALE:GREGORIAN
LAST-MODIFIED:20220912T174601Z
BEGIN:VTIMEZONE
TZID:America/Vancouver
BEGIN:STANDARD
DTSTART:20211107T090000
TZOFFSETFROM:-0700
TZOFFSETTO:-0800
TZNAME:PST
END:STANDARD
BEGIN:STANDARD
DTSTART:20221106T090000
TZOFFSETFROM:-0700
TZOFFSETTO:-0800
TZNAME:PST
END:STANDARD
BEGIN:DAYLIGHT
DTSTART:20220313T100000
TZOFFSETFROM:-0800
TZOFFSETTO:-0700
TZNAME:PDT
END:DAYLIGHT
END:VTIMEZONE
BEGIN:VEVENT
UID:90dfd3a8-b42b-4981-a09f-d911e8959257
DTSTAMP:20220912T174601Z
SUMMARY:Federated Identity Community Group
DTSTART;TZID=America/Vancouver:20220912T103000
DTEND;TZID=America/Vancouver:20220912T123000
DESCRIPTION:https://www.w3.org/events/meetings/90dfd3a8-b42b-4981-a09f-d911
 e8959257/\n\n\n\nAgenda: https://docs.google.com/document/d/1616EDFkRvzMEJ
 T1xE-ZDZHAmQjRcY5TxAiANcbbJcA8/edit\n\nAgenda\n\n10:30 - 10:45 - Introduct
 ions\, level setting\n10:45 - 11:30 - Charter\n11:30 - 11:45 - Break\n11:4
 5 - 12:30 - Decision Tree Diagrams - Red Question marks
STATUS:CONFIRMED
CREATED:20220610T050029Z
LAST-MODIFIED:20220912T174601Z
SEQUENCE:4
ORGANIZER;CN=W3C Calendar;PARTSTAT=ACCEPTED;ROLE=NON-PARTICIPANT:mailto:nor
 eply@w3.org
ATTENDEE;CUTYPE=GROUP;ROLE=OPT-PARTICIPANT;RSVP=FALSE;CN=Federated Identity
  Community Group:mailto:public-fed-id@w3.org
LOCATION:Junior CD - North Tower 3rd Floor
CATEGORIES:TPAC 2022,Group Meetings
END:VEVENT
END:VCALENDAR
