BEGIN:VCALENDAR
VERSION:2.0
PRODID:-//Sabre//Sabre VObject 4.5.8//EN
CALSCALE:GREGORIAN
LAST-MODIFIED:20251023T155208Z
BEGIN:VTIMEZONE
TZID:America/New_York
X-MICROSOFT-CDO-TZID:10
BEGIN:STANDARD
DTSTART:20241103T060000
TZOFFSETFROM:-0400
TZOFFSETTO:-0500
TZNAME:EST
END:STANDARD
BEGIN:STANDARD
DTSTART:20251102T060000
TZOFFSETFROM:-0400
TZOFFSETTO:-0500
TZNAME:EST
END:STANDARD
BEGIN:DAYLIGHT
DTSTART:20250309T070000
TZOFFSETFROM:-0500
TZOFFSETTO:-0400
TZNAME:EDT
END:DAYLIGHT
END:VTIMEZONE
BEGIN:VEVENT
UID:903e7183-1e69-4d39-b325-8680cd09a1d5
DTSTAMP:20251023T155208Z
SUMMARY:WCAG2ICT TF - Extra meeting to resolve 2.4.2 Page Titled
DTSTART;TZID=America/New_York:20251024T100000
DTEND;TZID=America/New_York:20251024T110000
DESCRIPTION:https://www.w3.org/events/meetings/903e7183-1e69-4d39-b325-8680
 cd09a1d5/\n\nWe'll have an extra meeting to try to finish up the topic of 
 2.4.2 Page titled. In the 23 October meeting\, the group was focused on [P
 roposal 3 in the Google doc](https://docs.google.com/document/d/1qFOc8cip3
 tKbH35XsxwYpZXxycLMhVgblbabg5V4UCY/edit?tab=t.0#heading=h.t9e127qed266)\n\
 nRemaining decisions/discussion:\n- **Scope of non-web documents covered:*
 * Can/should we limit to "page oriented" non-web documents to exclude imag
 es\, movies\, etc. that aren't text-based?\n- **Application of this SC to 
 non-web software:** Should this be applied using updated alternative requi
 rement to what we've developed for non-web documents?\n- Review the curren
 tly drafted rationale\, substitute requirement\, and note proposed for non
 -web documents and make suggestions of any needed edits.\n\nAgenda: https:
 //github.com/w3c/wcag2ict/wiki/Agendas\n\nAgenda\n\nSee the agenda link fo
 r details.
STATUS:CONFIRMED
CREATED:20251023T155020Z
LAST-MODIFIED:20251023T155208Z
SEQUENCE:1
ORGANIZER;CN=W3C Calendar;PARTSTAT=ACCEPTED;ROLE=NON-PARTICIPANT:mailto:nor
 eply@w3.org
ATTENDEE;CUTYPE=GROUP;ROLE=OPT-PARTICIPANT;RSVP=FALSE;CN=WCAG2ICT Task Forc
 e:mailto:public-wcag2ict-tf@w3.org
END:VEVENT
END:VCALENDAR
