BEGIN:VCALENDAR
VERSION:2.0
PRODID:-//Sabre//Sabre VObject 4.5.8//EN
CALSCALE:GREGORIAN
LAST-MODIFIED:20220810T153223Z
BEGIN:VTIMEZONE
TZID:Europe/Vienna
BEGIN:STANDARD
DTSTART:20211031T010000
TZOFFSETFROM:+0200
TZOFFSETTO:+0100
TZNAME:CET
END:STANDARD
BEGIN:STANDARD
DTSTART:20221030T010000
TZOFFSETFROM:+0200
TZOFFSETTO:+0100
TZNAME:CET
END:STANDARD
BEGIN:DAYLIGHT
DTSTART:20220327T010000
TZOFFSETFROM:+0100
TZOFFSETTO:+0200
TZNAME:CEST
END:DAYLIGHT
END:VTIMEZONE
BEGIN:VEVENT
UID:8fbfd568-9a19-48b8-ae7b-6e230e7348f0
DTSTAMP:20220810T153223Z
SUMMARY:DPVCG Meeting Call 17 AUG 2022
DTSTART;TZID=Europe/Vienna:20220817T140000
DTEND;TZID=Europe/Vienna:20220817T150000
DESCRIPTION:https://www.w3.org/events/meetings/8fbfd568-9a19-48b8-ae7b-6e23
 0e7348f0/\n\n\n\nAgenda\n\nPrevious minutes: https://www.w3.org/2022/08/03
 -dpvcg-minutes.html\nAll minutes: https://www.w3.org/community/dpvcg/wiki/
 Meeting_Calls#Minutes_of_Meetings\n\nWe will undertake the below topics in
  order of recent updates (if any) or preferences of attendees.\n\n1. Imple
 menting Rights concepts in extension - see email https://lists.w3.org/Arch
 ives/Public/public-dpvcg/2022May/0005.html\n2. Implementing Rules concepts
  in DPV - see email https://lists.w3.org/Archives/Public/public-dpvcg/2022
 May/0010.html\n3. Association of ISO and other standards to DPV concepts -
  see email https://lists.w3.org/Archives/Public/public-dpvcg/2022Jul/0004.
 html\n4. Issues and discussions on GitHub - https://github.com/w3c/dpv/iss
 ues\n\n5. AOB - to add items\, reply to the agenda email\n\nI've added a t
 imeline for (my) working on specific DPV topics in preparation of v1 relea
 se: https://harshp.com/dev/dpv/dpv-v1-checklist#Sec16 If you're available 
 to work on these (even if on a different schedule)\, please let me/us know
  so we can co-ordinate efforts.
STATUS:CONFIRMED
CREATED:20220810T153222Z
LAST-MODIFIED:20220810T153223Z
SEQUENCE:0
ORGANIZER;CN=W3C Calendar;PARTSTAT=ACCEPTED;ROLE=NON-PARTICIPANT:mailto:nor
 eply@w3.org
ATTENDEE;CUTYPE=GROUP;ROLE=OPT-PARTICIPANT;RSVP=FALSE;CN=Data Privacy Vocab
 ularies and Controls Community Group:mailto:public-dpvcg@w3.org
LOCATION:virtual
END:VEVENT
END:VCALENDAR
