BEGIN:VCALENDAR
VERSION:2.0
PRODID:-//Sabre//Sabre VObject 4.5.8//EN
CALSCALE:GREGORIAN
LAST-MODIFIED:20260218T183129Z
BEGIN:VTIMEZONE
TZID:Asia/Tokyo
X-MICROSOFT-CDO-TZID:20
BEGIN:STANDARD
DTSTART:20241118T080000
TZOFFSETFROM:+0900
TZOFFSETTO:+0900
TZNAME:JST
END:STANDARD
END:VTIMEZONE
BEGIN:VEVENT
UID:8f081ab5-0d89-46a2-9ada-6c21fc34eece
DTSTAMP:20260218T183129Z
SUMMARY:State of Web Monetization
DTSTART;TZID=Asia/Tokyo:20251113T170000
DTEND;TZID=Asia/Tokyo:20251113T180000
DESCRIPTION:https://www.w3.org/events/meetings/8f081ab5-0d89-46a2-9ada-6c21
 fc34eece/\n\nThis session will cover the current state of different projec
 ts under the Web Monetization work\, partnerships\, and future direction. 
 \n\nWith [Web Monetization](https://webmonetization.org/)\, we’re adding
  a new\, seamless way for users to support the content they love — compl
 ementing existing models with real-time\, streaming micropayments. The Web
  Monetization Extension makes it effortless for users to contribute on the
 ir terms\, while giving content owners more opportunities to engage their 
 audiences and diversify revenue streams.\n\nWe propose to structure the br
 eakout around these main focus areas:\n1. WM Extension – the browser ext
 ension implementation of the Web Monetization spec: status\, adoption\, co
 mpatibility\, limitations.\n2. WM Publisher Tools – the toolset for publ
 ishers/content owners (banner\, link-tag\, widget generator etc) to adopt 
 Web Monetization.\n3. WM Flows Spec – Walk through the flows as defined 
 (e.g. how authorization happens\, how the payment session is established\,
  how streaming is maintained or rotated) and mention interactions between 
 user agents\, wallets\, and publishers. \n4. WM In-Browser Implementation 
 / Prototype Demo – progress toward native or built-in browser support (v
 s only extension)\, including prototypes\, engagements with browser vendor
 s.\n5. WM Standard / Spec Status – the specification itself: where it st
 ands in the standards process\, outstanding issues\, interop\, ecosystem f
 eedback\, next steps\n6. All things feedback \n\n**Goal(s):**\nA shared un
 derstanding among attendees of the current ecosystem landscape: what works
 \, what doesn’t and a commitment to follow-up: e.g.\, a work-item in the
  W3C Working Group\, or a community of practice.\n\nAgenda\n\n* To be upda
 ted.\n\n**Materials:**\n- [Session proposal on GitHub](https://github.com/
 w3c/tpac2025-breakouts/issues/59)
STATUS:CONFIRMED
CREATED:20251028T131445Z
LAST-MODIFIED:20260218T183129Z
SEQUENCE:4
ORGANIZER;CN=W3C Calendar;PARTSTAT=ACCEPTED;ROLE=NON-PARTICIPANT:mailto:nor
 eply@w3.org
LOCATION:Floor 5 - 504
CATEGORIES:TPAC 2025,Breakout Sessions
END:VEVENT
END:VCALENDAR
