BEGIN:VCALENDAR
VERSION:2.0
PRODID:-//Sabre//Sabre VObject 4.5.8//EN
CALSCALE:GREGORIAN
LAST-MODIFIED:20240927T155928Z
BEGIN:VTIMEZONE
TZID:America/Los_Angeles
X-MICROSOFT-CDO-TZID:13
BEGIN:STANDARD
DTSTART:20231105T090000
TZOFFSETFROM:-0700
TZOFFSETTO:-0800
TZNAME:PST
END:STANDARD
BEGIN:STANDARD
DTSTART:20241103T090000
TZOFFSETFROM:-0700
TZOFFSETTO:-0800
TZNAME:PST
END:STANDARD
BEGIN:DAYLIGHT
DTSTART:20240310T100000
TZOFFSETFROM:-0800
TZOFFSETTO:-0700
TZNAME:PDT
END:DAYLIGHT
END:VTIMEZONE
BEGIN:VEVENT
UID:8f0251f6-f18e-429d-9717-ec307ccacd52
DTSTAMP:20240927T155928Z
SUMMARY:Accessible Platform Architectures Working Group
DTSTART;TZID=America/Los_Angeles:20240927T090000
DTEND;TZID=America/Los_Angeles:20240927T103000
DESCRIPTION:https://www.w3.org/events/meetings/8f0251f6-f18e-429d-9717-ec30
 7ccacd52/\n\n\n\nAgenda\n\n* APA WG re-chartering (early 2025) - scope\, d
 eliverables.\n* COGA's proposed new format for the next version of ["Conte
 nt Usable"](https://www.w3.org/TR/coga-usable/).\n\nAny WG/TF work can be 
 done here - if you have specific agenda to raise\, let us know.
STATUS:CONFIRMED
CREATED:20240730T132017Z
LAST-MODIFIED:20240927T155928Z
SEQUENCE:5
ORGANIZER;CN=W3C Calendar;PARTSTAT=ACCEPTED;ROLE=NON-PARTICIPANT:mailto:nor
 eply@w3.org
ATTENDEE;CUTYPE=GROUP;ROLE=OPT-PARTICIPANT;RSVP=FALSE;CN=Accessible Platfor
 m Architectures Working Group:mailto:public-apa@w3.org
LOCATION:4 Concourse Level - Palos Verdes
CATEGORIES:TPAC 2024,Group Meetings
END:VEVENT
END:VCALENDAR
