BEGIN:VCALENDAR
VERSION:2.0
PRODID:-//Sabre//Sabre VObject 4.5.8//EN
CALSCALE:GREGORIAN
LAST-MODIFIED:20250225T191542Z
BEGIN:VTIMEZONE
TZID:America/New_York
X-MICROSOFT-CDO-TZID:10
BEGIN:DAYLIGHT
DTSTART:20240310T070000
TZOFFSETFROM:-0500
TZOFFSETTO:-0400
TZNAME:EDT
END:DAYLIGHT
BEGIN:DAYLIGHT
DTSTART:20250309T070000
TZOFFSETFROM:-0500
TZOFFSETTO:-0400
TZNAME:EDT
END:DAYLIGHT
BEGIN:STANDARD
DTSTART:20241103T060000
TZOFFSETFROM:-0400
TZOFFSETTO:-0500
TZNAME:EST
END:STANDARD
END:VTIMEZONE
BEGIN:VEVENT
UID:8e8242af-7a68-40e4-9a7f-71e2f06b6b12
DTSTAMP:20250225T191542Z
SUMMARY:W3C CCG - Digital Credentials API
DTSTART;TZID=America/New_York:20250304T120000
DTEND;TZID=America/New_York:20250304T125000
DESCRIPTION:https://www.w3.org/events/meetings/8e8242af-7a68-40e4-9a7f-71e2
 f06b6b12/20250304T120000/\n\nTim Cappalli from Okta and Sam Goto from Goog
 le presenting on Digital Credentials API\, its tech\, use cases\, and diff
 erences to FedCM\n\nMeeting Link:  https://meet.w3c-ccg.org/weekly\nMinute
 s:  https://w3c-ccg.github.io/meetings/\n\nAgenda\n\n1. Agenda Review \n2.
  Code of Ethics & Professional Conduct Reminder https://www.w3.org/Consort
 ium/cepc/ \n3. IP Note: \nAnyone can participate in these calls. However\,
  all substantive contributors to any CCG Work Items must be members of the
  CCG with full IPR agreements signed. https://www.w3.org/community/credent
 ials/join\n    a. Ensure you have a W3 account: https://www.w3.org/account
 s/request\n    b. W3C COMMUNITY CONTRIBUTOR LICENSE AGREEMENT (CLA):\nhttp
 s://www.w3.org/community/about/agreements/cla/\n4. Call Notes \n    a. The
 se minutes and an audio recording of everything said on this call are arch
 ived at https://w3c-ccg.github.io/meetings/\n    b. We use IRC to queue sp
 eakers during the call as well as to take minutes. http://irc.w3.org/?chan
 nels=ccg or http://irc.w3.org:6665/#ccg or the Jitsi text chat.\n    c. In
  IRC type “q+” to add yourself to the queue\, with an optional reminde
 r\, e.g.\, “q+ to mention something”. The “to” is required.\n    d
 . If you’re not on the chat\, simply ask to be put on the queue.\n    e.
  Please be brief so the rest of the queue get a chance to chime in. You ca
 n always q+ again.\n    f. NOTE: This meeting is held by voice\, not by IR
 C. Off-topic IRC comments are subject to deletion from the record. We work
  hard to manage a single thread of conversation so everyone can participat
 e and be heard. Please respect the group process by joining the queue when
  you have something to contribute.\n5. Optional Scribe Selection \nWe need
  a volunteer to scribe in case auto transcription fails. Scribe List:\nhtt
 ps://docs.google.com/document/d/1LkqZ10z7FeV3EgMIQEJ9achEYMzy1d_2S90Q_lQ0y
 8M/edit?usp=sharing\n6. Introductions & Reintroductions (see scribe doc fo
 r reintroduce column)\n7. Announcements & Reminders https://w3c-ccg.github
 .io/announcements/\n8. Progress on Action Items \nhttps://github.com/w3c-c
 cg/community/issues?q=is%3Aopen+is%3Aissue+label%3A%22action%3A+review+nex
 t%22\n9. Presentations\n10. General Q&A\n\nJoining Instructions: https://m
 eet.w3c-ccg.org/weekly\n\nJoining Instructions\n\nJitsi Teleconference:\n 
      https://meet.w3c-ccg.org/weekly\n\nText Chat:\n      http://irc.w3.or
 g/?channels=ccg\n      irc://irc.w3.org:6665/#ccg\n\nVoice:\n     US phone
 : tel:+1.602.932.2243\;1
STATUS:CONFIRMED
CREATED:20241203T001030Z
LAST-MODIFIED:20250225T191542Z
SEQUENCE:4
ORGANIZER;CN=W3C Calendar;PARTSTAT=ACCEPTED;ROLE=NON-PARTICIPANT:mailto:nor
 eply@w3.org
ATTENDEE;CUTYPE=GROUP;ROLE=OPT-PARTICIPANT;RSVP=FALSE;CN=Credentials Commun
 ity Group:mailto:public-credentials@w3.org
ATTENDEE;CN=Otto Mora:mailto:otto@axiswd.com
RECURRENCE-ID;TZID=America/New_York:20250304T120000
END:VEVENT
END:VCALENDAR
