BEGIN:VCALENDAR
VERSION:2.0
PRODID:-//Sabre//Sabre VObject 4.5.8//EN
CALSCALE:GREGORIAN
LAST-MODIFIED:20240909T071344Z
BEGIN:VTIMEZONE
TZID:America/New_York
X-MICROSOFT-CDO-TZID:10
BEGIN:STANDARD
DTSTART:20231105T060000
TZOFFSETFROM:-0400
TZOFFSETTO:-0500
TZNAME:EST
END:STANDARD
BEGIN:STANDARD
DTSTART:20241103T060000
TZOFFSETFROM:-0400
TZOFFSETTO:-0500
TZNAME:EST
END:STANDARD
BEGIN:DAYLIGHT
DTSTART:20240310T070000
TZOFFSETFROM:-0500
TZOFFSETTO:-0400
TZNAME:EDT
END:DAYLIGHT
END:VTIMEZONE
BEGIN:VEVENT
UID:8e8242af-7a68-40e4-9a7f-71e2f06b6b12
DTSTAMP:20240909T071344Z
SUMMARY:W3C CCG - Provably Forgotten Signatures
DTSTART;TZID=America/New_York:20240917T120000
DTEND;TZID=America/New_York:20240917T125000
DESCRIPTION:https://www.w3.org/events/meetings/8e8242af-7a68-40e4-9a7f-71e2
 f06b6b12/20240917T120000/\n\nWayne Chang\, former W3C CCG co-chair and CEO
  of Spruce ID\, presenting on Provably Forgotten Signatures\, which levera
 ges confidential computing environments (i.e. Trusted Execution Environmen
 t on the issuer’s server-side infrastructure) where the issuer can forge
 t the values (e.g. digital credentials and signatures) and provide proof o
 f this deletion to the user.\n\nMeeting Link:  https://meet.w3c-ccg.org/we
 ekly\nMinutes:  https://w3c-ccg.github.io/meetings/\n\nAgenda\n\n1. Agenda
  Review \n2. Code of Ethics & Professional Conduct Reminder https://www.w3
 .org/Consortium/cepc/ \n3. IP Note: \nAnyone can participate in these call
 s. However\, all substantive contributors to any CCG Work Items must be me
 mbers of the CCG with full IPR agreements signed. https://www.w3.org/commu
 nity/credentials/join\n    a. Ensure you have a W3 account: https://www.w3
 .org/accounts/request\n    b. W3C COMMUNITY CONTRIBUTOR LICENSE AGREEMENT 
 (CLA):\nhttps://www.w3.org/community/about/agreements/cla/\n4. Call Notes 
 \n    a. These minutes and an audio recording of everything said on this c
 all are archived at https://w3c-ccg.github.io/meetings/\n    b. We use IRC
  to queue speakers during the call as well as to take minutes. http://irc.
 w3.org/?channels=ccg or http://irc.w3.org:6665/#ccg or the Jitsi text chat
 .\n    c. In IRC type “q+” to add yourself to the queue\, with an opti
 onal reminder\, e.g.\, “q+ to mention something”. The “to” is requ
 ired.\n    d. If you’re not on the chat\, simply ask to be put on the qu
 eue.\n    e. Please be brief so the rest of the queue get a chance to chim
 e in. You can always q+ again.\n    f. NOTE: This meeting is held by voice
 \, not by IRC. Off-topic IRC comments are subject to deletion from the rec
 ord. We work hard to manage a single thread of conversation so everyone ca
 n participate and be heard. Please respect the group process by joining th
 e queue when you have something to contribute.\n5. Optional Scribe Selecti
 on \nWe need a volunteer to scribe in case auto transcription fails. Scrib
 e List:\nhttps://docs.google.com/document/d/1LkqZ10z7FeV3EgMIQEJ9achEYMzy1
 d_2S90Q_lQ0y8M/edit?usp=sharing\n6. Introductions & Reintroductions (see s
 cribe doc for reintroduce column)\n7. Announcements & Reminders https://w3
 c-ccg.github.io/announcements/\n8. Progress on Action Items \nhttps://gith
 ub.com/w3c-ccg/community/issues?q=is%3Aopen+is%3Aissue+label%3A%22action%3
 A+review+next%22\n9. Presentations\n10. General Q&A\n\nJoining Instruction
 s: https://meet.w3c-ccg.org/weekly\n\nJoining Instructions\n\nJitsi Teleco
 nference:\n      https://meet.w3c-ccg.org/weekly\n\nText Chat:\n      http
 ://irc.w3.org/?channels=ccg\n      irc://irc.w3.org:6665/#ccg\n\nVoice:\n 
     US phone: tel:+1.602.932.2243\;1
STATUS:CONFIRMED
CREATED:20240725T221308Z
LAST-MODIFIED:20240909T071344Z
SEQUENCE:4
ORGANIZER;CN=W3C Calendar;PARTSTAT=ACCEPTED;ROLE=NON-PARTICIPANT:mailto:nor
 eply@w3.org
ATTENDEE;CUTYPE=GROUP;ROLE=OPT-PARTICIPANT;RSVP=FALSE;CN=Credentials Commun
 ity Group:mailto:public-credentials@w3.org
ATTENDEE;CN=Pascal Knoth:mailto:pascal@malach.it
RECURRENCE-ID;TZID=America/New_York:20240917T120000
END:VEVENT
END:VCALENDAR
