BEGIN:VCALENDAR
VERSION:2.0
PRODID:-//Sabre//Sabre VObject 4.5.8//EN
CALSCALE:GREGORIAN
LAST-MODIFIED:20240605T221223Z
BEGIN:VTIMEZONE
TZID:America/New_York
X-MICROSOFT-CDO-TZID:10
BEGIN:STANDARD
DTSTART:20231105T060000
TZOFFSETFROM:-0400
TZOFFSETTO:-0500
TZNAME:EST
END:STANDARD
BEGIN:STANDARD
DTSTART:20241103T060000
TZOFFSETFROM:-0400
TZOFFSETTO:-0500
TZNAME:EST
END:STANDARD
BEGIN:DAYLIGHT
DTSTART:20240310T070000
TZOFFSETFROM:-0500
TZOFFSETTO:-0400
TZNAME:EDT
END:DAYLIGHT
END:VTIMEZONE
BEGIN:VEVENT
UID:8e8242af-7a68-40e4-9a7f-71e2f06b6b12
DTSTAMP:20240605T221223Z
SUMMARY:W3C CCG - Verifiable Credential Barcodes
DTSTART;TZID=America/New_York:20240806T120000
DTEND;TZID=America/New_York:20240806T125000
DESCRIPTION:https://www.w3.org/events/meetings/8e8242af-7a68-40e4-9a7f-71e2
 f06b6b12/20240806T120000/\n\nWesley Smith presenting on Verifiable Credent
 ial Barcodes (https://github.com/w3c-ccg/community/issues/248)\n\nMeeting 
 Link:  https://meet.w3c-ccg.org/weekly\nMinutes:  https://w3c-ccg.github.i
 o/meetings/\n\nAgenda\n\n1. Agenda Review \n2. Code of Ethics & Profession
 al Conduct Reminder https://www.w3.org/Consortium/cepc/ \n3. IP Note: \nAn
 yone can participate in these calls. However\, all substantive contributor
 s to any CCG Work Items must be members of the CCG with full IPR agreement
 s signed. https://www.w3.org/community/credentials/join\n    a. Ensure you
  have a W3 account: https://www.w3.org/accounts/request\n    b. W3C COMMUN
 ITY CONTRIBUTOR LICENSE AGREEMENT (CLA):\nhttps://www.w3.org/community/abo
 ut/agreements/cla/\n4. Call Notes \n    a. These minutes and an audio reco
 rding of everything said on this call are archived at https://w3c-ccg.gith
 ub.io/meetings/\n    b. We use IRC to queue speakers during the call as we
 ll as to take minutes. http://irc.w3.org/?channels=ccg or http://irc.w3.or
 g:6665/#ccg or the Jitsi text chat.\n    c. In IRC type “q+” to add yo
 urself to the queue\, with an optional reminder\, e.g.\, “q+ to mention 
 something”. The “to” is required.\n    d. If you’re not on the cha
 t\, simply ask to be put on the queue.\n    e. Please be brief so the rest
  of the queue get a chance to chime in. You can always q+ again.\n    f. N
 OTE: This meeting is held by voice\, not by IRC. Off-topic IRC comments ar
 e subject to deletion from the record. We work hard to manage a single thr
 ead of conversation so everyone can participate and be heard. Please respe
 ct the group process by joining the queue when you have something to contr
 ibute.\n5. Optional Scribe Selection \nWe need a volunteer to scribe in ca
 se auto transcription fails. Scribe List:\nhttps://docs.google.com/documen
 t/d/1LkqZ10z7FeV3EgMIQEJ9achEYMzy1d_2S90Q_lQ0y8M/edit?usp=sharing\n6. Intr
 oductions & Reintroductions (see scribe doc for reintroduce column)\n7. An
 nouncements & Reminders https://w3c-ccg.github.io/announcements/\n8. Progr
 ess on Action Items \nhttps://github.com/w3c-ccg/community/issues?q=is%3Ao
 pen+is%3Aissue+label%3A%22action%3A+review+next%22\n9. Presentations\n10. 
 General Q&A\n\nJoining Instructions: https://meet.w3c-ccg.org/weekly\n\nJo
 ining Instructions\n\nJitsi Teleconference:\n      https://meet.w3c-ccg.or
 g/weekly\n\nText Chat:\n      http://irc.w3.org/?channels=ccg\n      irc:/
 /irc.w3.org:6665/#ccg\n\nVoice:\n     US phone: tel:+1.602.932.2243\;1
STATUS:CONFIRMED
CREATED:20240605T221223Z
LAST-MODIFIED:20240605T221223Z
SEQUENCE:4
ORGANIZER;CN=W3C Calendar;PARTSTAT=ACCEPTED;ROLE=NON-PARTICIPANT:mailto:nor
 eply@w3.org
ATTENDEE;CUTYPE=GROUP;ROLE=OPT-PARTICIPANT;RSVP=FALSE;CN=Credentials Commun
 ity Group:mailto:public-credentials@w3.org
RECURRENCE-ID;TZID=America/New_York:20240806T120000
END:VEVENT
END:VCALENDAR
