BEGIN:VCALENDAR
VERSION:2.0
PRODID:-//Sabre//Sabre VObject 4.5.8//EN
CALSCALE:GREGORIAN
LAST-MODIFIED:20240606T164211Z
BEGIN:VTIMEZONE
TZID:America/New_York
X-MICROSOFT-CDO-TZID:10
BEGIN:STANDARD
DTSTART:20231105T060000
TZOFFSETFROM:-0400
TZOFFSETTO:-0500
TZNAME:EST
END:STANDARD
BEGIN:STANDARD
DTSTART:20241103T060000
TZOFFSETFROM:-0400
TZOFFSETTO:-0500
TZNAME:EST
END:STANDARD
BEGIN:DAYLIGHT
DTSTART:20240310T070000
TZOFFSETFROM:-0500
TZOFFSETTO:-0400
TZNAME:EDT
END:DAYLIGHT
END:VTIMEZONE
BEGIN:VEVENT
UID:8e8242af-7a68-40e4-9a7f-71e2f06b6b12
DTSTAMP:20240606T164211Z
SUMMARY:W3C CCG - #WhyID Campaign
DTSTART;TZID=America/New_York:20240611T120000
DTEND;TZID=America/New_York:20240611T125000
DESCRIPTION:https://www.w3.org/events/meetings/8e8242af-7a68-40e4-9a7f-71e2
 f06b6b12/20240611T120000/\n\nMarianne Díaz Hernández presenting on the #
 WhyID Campaign that aims to protect human rights\, autonomy\, dignity\, id
 entity and agency of people in digital identification systems (https://www
 .accessnow.org/campaign/whyid/)\n\nMeeting Link:  https://meet.w3c-ccg.org
 /weekly\nMinutes:  https://w3c-ccg.github.io/meetings/\n\nAgenda\n\n1. Age
 nda Review \n2. Code of Ethics & Professional Conduct Reminder https://www
 .w3.org/Consortium/cepc/ \n3. IP Note: \nAnyone can participate in these c
 alls. However\, all substantive contributors to any CCG Work Items must be
  members of the CCG with full IPR agreements signed. https://www.w3.org/co
 mmunity/credentials/join\n    a. Ensure you have a W3 account: https://www
 .w3.org/accounts/request\n    b. W3C COMMUNITY CONTRIBUTOR LICENSE AGREEME
 NT (CLA):\nhttps://www.w3.org/community/about/agreements/cla/\n4. Call Not
 es \n    a. These minutes and an audio recording of everything said on thi
 s call are archived at https://w3c-ccg.github.io/meetings/\n    b. We use 
 IRC to queue speakers during the call as well as to take minutes. http://i
 rc.w3.org/?channels=ccg or http://irc.w3.org:6665/#ccg or the Jitsi text c
 hat.\n    c. In IRC type “q+” to add yourself to the queue\, with an o
 ptional reminder\, e.g.\, “q+ to mention something”. The “to” is r
 equired.\n    d. If you’re not on the chat\, simply ask to be put on the
  queue.\n    e. Please be brief so the rest of the queue get a chance to c
 hime in. You can always q+ again.\n    f. NOTE: This meeting is held by vo
 ice\, not by IRC. Off-topic IRC comments are subject to deletion from the 
 record. We work hard to manage a single thread of conversation so everyone
  can participate and be heard. Please respect the group process by joining
  the queue when you have something to contribute.\n5. Optional Scribe Sele
 ction \nWe need a volunteer to scribe in case auto transcription fails. Sc
 ribe List:\nhttps://docs.google.com/document/d/1LkqZ10z7FeV3EgMIQEJ9achEYM
 zy1d_2S90Q_lQ0y8M/edit?usp=sharing\n6. Introductions & Reintroductions (se
 e scribe doc for reintroduce column)\n7. Announcements & Reminders https:/
 /w3c-ccg.github.io/announcements/\n8. Progress on Action Items \nhttps://g
 ithub.com/w3c-ccg/community/issues?q=is%3Aopen+is%3Aissue+label%3A%22actio
 n%3A+review+next%22\n9. Presentations\n10. General Q&A\n\nJoining Instruct
 ions: https://meet.w3c-ccg.org/weekly\n\nJoining Instructions\n\nJitsi Tel
 econference:\n      https://meet.w3c-ccg.org/weekly\n\nText Chat:\n      h
 ttp://irc.w3.org/?channels=ccg\n      irc://irc.w3.org:6665/#ccg\n\nVoice:
 \n     US phone: tel:+1.602.932.2243\;1
STATUS:CONFIRMED
CREATED:20240409T191834Z
LAST-MODIFIED:20240606T164211Z
SEQUENCE:4
ORGANIZER;CN=W3C Calendar;PARTSTAT=ACCEPTED;ROLE=NON-PARTICIPANT:mailto:nor
 eply@w3.org
ATTENDEE;CUTYPE=GROUP;ROLE=OPT-PARTICIPANT;RSVP=FALSE;CN=Credentials Commun
 ity Group:mailto:public-credentials@w3.org
ATTENDEE;CN=Nick Doty:mailto:ndoty@cdt.org
ATTENDEE;CN=Simone Onofri:mailto:simone@w3.org
ATTENDEE;CN=Nouran Soliman:mailto:nouranm.soliman@gmail.com
ATTENDEE;CN=Joey Stanford:mailto:joey@platform.sh
RECURRENCE-ID;TZID=America/New_York:20240611T120000
END:VEVENT
END:VCALENDAR
