BEGIN:VCALENDAR
VERSION:2.0
PRODID:-//Sabre//Sabre VObject 4.5.8//EN
CALSCALE:GREGORIAN
LAST-MODIFIED:20240524T145629Z
BEGIN:VTIMEZONE
TZID:America/New_York
X-MICROSOFT-CDO-TZID:10
BEGIN:STANDARD
DTSTART:20231105T060000
TZOFFSETFROM:-0400
TZOFFSETTO:-0500
TZNAME:EST
END:STANDARD
BEGIN:STANDARD
DTSTART:20241103T060000
TZOFFSETFROM:-0400
TZOFFSETTO:-0500
TZNAME:EST
END:STANDARD
BEGIN:DAYLIGHT
DTSTART:20240310T070000
TZOFFSETFROM:-0500
TZOFFSETTO:-0400
TZNAME:EDT
END:DAYLIGHT
END:VTIMEZONE
BEGIN:VEVENT
UID:8e8242af-7a68-40e4-9a7f-71e2f06b6b12
DTSTAMP:20240524T145629Z
SUMMARY:W3C CCG - DHS Technical Implementation Requirements for Decentraliz
 ed Identity
DTSTART;TZID=America/New_York:20240528T120000
DTEND;TZID=America/New_York:20240528T125000
DESCRIPTION:https://www.w3.org/events/meetings/8e8242af-7a68-40e4-9a7f-71e2
 f06b6b12/20240528T120000/\n\nAnil John presenting on the Department of Hom
 eland Security's technical implementation requirements for decentralized i
 dentity\n\nMeeting Link:  https://meet.w3c-ccg.org/weekly\nMinutes:  https
 ://w3c-ccg.github.io/meetings/\n\nAgenda\n\n1. Agenda Review \n2. Code of 
 Ethics & Professional Conduct Reminder https://www.w3.org/Consortium/cepc/
  \n3. IP Note: \nAnyone can participate in these calls. However\, all subs
 tantive contributors to any CCG Work Items must be members of the CCG with
  full IPR agreements signed. https://www.w3.org/community/credentials/join
 \n    a. Ensure you have a W3 account: https://www.w3.org/accounts/request
 \n    b. W3C COMMUNITY CONTRIBUTOR LICENSE AGREEMENT (CLA):\nhttps://www.w
 3.org/community/about/agreements/cla/\n4. Call Notes \n    a. These minute
 s and an audio recording of everything said on this call are archived at h
 ttps://w3c-ccg.github.io/meetings/\n    b. We use IRC to queue speakers du
 ring the call as well as to take minutes. http://irc.w3.org/?channels=ccg 
 or http://irc.w3.org:6665/#ccg or the Jitsi text chat.\n    c. In IRC type
  “q+” to add yourself to the queue\, with an optional reminder\, e.g.\
 , “q+ to mention something”. The “to” is required.\n    d. If you
 ’re not on the chat\, simply ask to be put on the queue.\n    e. Please 
 be brief so the rest of the queue get a chance to chime in. You can always
  q+ again.\n    f. NOTE: This meeting is held by voice\, not by IRC. Off-t
 opic IRC comments are subject to deletion from the record. We work hard to
  manage a single thread of conversation so everyone can participate and be
  heard. Please respect the group process by joining the queue when you hav
 e something to contribute.\n5. Optional Scribe Selection \nWe need a volun
 teer to scribe in case auto transcription fails. Scribe List:\nhttps://doc
 s.google.com/document/d/1LkqZ10z7FeV3EgMIQEJ9achEYMzy1d_2S90Q_lQ0y8M/edit?
 usp=sharing\n6. Introductions & Reintroductions (see scribe doc for reintr
 oduce column)\n7. Announcements & Reminders https://w3c-ccg.github.io/anno
 uncements/\n8. Progress on Action Items \nhttps://github.com/w3c-ccg/commu
 nity/issues?q=is%3Aopen+is%3Aissue+label%3A%22action%3A+review+next%22\n9.
  Presentations\n10. General Q&A\n\nJoining Instructions: https://meet.w3c-
 ccg.org/weekly\n\nJoining Instructions\n\nJitsi Teleconference:\n      htt
 ps://meet.w3c-ccg.org/weekly\n\nText Chat:\n      http://irc.w3.org/?chann
 els=ccg\n      irc://irc.w3.org:6665/#ccg\n\nVoice:\n     US phone: tel:+1
 .602.932.2243\;1
STATUS:CONFIRMED
CREATED:20240327T233513Z
LAST-MODIFIED:20240524T145629Z
SEQUENCE:4
ORGANIZER;CN=W3C Calendar;PARTSTAT=ACCEPTED;ROLE=NON-PARTICIPANT:mailto:nor
 eply@w3.org
ATTENDEE;CUTYPE=GROUP;ROLE=OPT-PARTICIPANT;RSVP=FALSE;CN=Credentials Commun
 ity Group:mailto:public-credentials@w3.org
ATTENDEE;CN=Nick Doty:mailto:ndoty@cdt.org
ATTENDEE;CN=Simone Onofri:mailto:simone@w3.org
ATTENDEE;CN=Nouran Soliman:mailto:nouranm.soliman@gmail.com
RECURRENCE-ID;TZID=America/New_York:20240528T120000
END:VEVENT
END:VCALENDAR
