BEGIN:VCALENDAR
VERSION:2.0
PRODID:-//Sabre//Sabre VObject 4.5.8//EN
CALSCALE:GREGORIAN
LAST-MODIFIED:20240521T131343Z
BEGIN:VTIMEZONE
TZID:America/New_York
X-MICROSOFT-CDO-TZID:10
BEGIN:STANDARD
DTSTART:20231105T060000
TZOFFSETFROM:-0400
TZOFFSETTO:-0500
TZNAME:EST
END:STANDARD
BEGIN:STANDARD
DTSTART:20241103T060000
TZOFFSETFROM:-0400
TZOFFSETTO:-0500
TZNAME:EST
END:STANDARD
BEGIN:DAYLIGHT
DTSTART:20240310T070000
TZOFFSETFROM:-0500
TZOFFSETTO:-0400
TZNAME:EDT
END:DAYLIGHT
END:VTIMEZONE
BEGIN:VEVENT
UID:8e8242af-7a68-40e4-9a7f-71e2f06b6b12
DTSTAMP:20240521T131343Z
SUMMARY:W3C CCG - Credential Format Comparison
DTSTART;TZID=America/New_York:20240521T120000
DTEND;TZID=America/New_York:20240521T125000
DESCRIPTION:https://www.w3.org/events/meetings/8e8242af-7a68-40e4-9a7f-71e2
 f06b6b12/20240521T120000/\n\nMirko Mollik\, Kaliya Identity Woman\, Lucy Y
 ang\, and Torsten Lodderstedt presenting and leading a discussion on Crede
 ntial Format Comparison.\n\nNote:  Credential Format Comparison SIG (Speci
 al Interest Group) at OWF (OpenWallet Foundation).  https://github.com/ope
 nwallet-foundation/credential-format-comparison-sig\n\nMeeting Link:  http
 s://meet.w3c-ccg.org/weekly\nMinutes:  https://w3c-ccg.github.io/meetings/
 \n\nAgenda\n\n1. Agenda Review \n2. Code of Ethics & Professional Conduct 
 Reminder https://www.w3.org/Consortium/cepc/ \n3. IP Note: \nAnyone can pa
 rticipate in these calls. However\, all substantive contributors to any CC
 G Work Items must be members of the CCG with full IPR agreements signed. h
 ttps://www.w3.org/community/credentials/join\n    a. Ensure you have a W3 
 account: https://www.w3.org/accounts/request\n    b. W3C COMMUNITY CONTRIB
 UTOR LICENSE AGREEMENT (CLA):\nhttps://www.w3.org/community/about/agreemen
 ts/cla/\n4. Call Notes \n    a. These minutes and an audio recording of ev
 erything said on this call are archived at https://w3c-ccg.github.io/meeti
 ngs/\n    b. We use IRC to queue speakers during the call as well as to ta
 ke minutes. http://irc.w3.org/?channels=ccg or http://irc.w3.org:6665/#ccg
  or the Jitsi text chat.\n    c. In IRC type “q+” to add yourself to t
 he queue\, with an optional reminder\, e.g.\, “q+ to mention something
 ”. The “to” is required.\n    d. If you’re not on the chat\, simpl
 y ask to be put on the queue.\n    e. Please be brief so the rest of the q
 ueue get a chance to chime in. You can always q+ again.\n    f. NOTE: This
  meeting is held by voice\, not by IRC. Off-topic IRC comments are subject
  to deletion from the record. We work hard to manage a single thread of co
 nversation so everyone can participate and be heard. Please respect the gr
 oup process by joining the queue when you have something to contribute.\n5
 . Optional Scribe Selection \nWe need a volunteer to scribe in case auto t
 ranscription fails. Scribe List:\nhttps://docs.google.com/document/d/1LkqZ
 10z7FeV3EgMIQEJ9achEYMzy1d_2S90Q_lQ0y8M/edit?usp=sharing\n6. Introductions
  & Reintroductions (see scribe doc for reintroduce column)\n7. Announcemen
 ts & Reminders https://w3c-ccg.github.io/announcements/\n8. Progress on Ac
 tion Items \nhttps://github.com/w3c-ccg/community/issues?q=is%3Aopen+is%3A
 issue+label%3A%22action%3A+review+next%22\n9. Presentations\n10. General Q
 &A\n\nJoining Instructions: https://meet.w3c-ccg.org/weekly\n\nJoining Ins
 tructions\n\nJitsi Teleconference:\n      https://meet.w3c-ccg.org/weekly\
 n\nText Chat:\n      http://irc.w3.org/?channels=ccg\n      irc://irc.w3.o
 rg:6665/#ccg\n\nVoice:\n     US phone: tel:+1.602.932.2243\;1
STATUS:CONFIRMED
CREATED:20240326T170851Z
LAST-MODIFIED:20240521T131343Z
SEQUENCE:4
ORGANIZER;CN=W3C Calendar;PARTSTAT=ACCEPTED;ROLE=NON-PARTICIPANT:mailto:nor
 eply@w3.org
ATTENDEE;CUTYPE=GROUP;ROLE=OPT-PARTICIPANT;RSVP=FALSE;CN=Credentials Commun
 ity Group:mailto:public-credentials@w3.org
ATTENDEE;CN=Simone Onofri:mailto:simone@w3.org
ATTENDEE;CN=Nouran Soliman:mailto:nouranm.soliman@gmail.com
RECURRENCE-ID;TZID=America/New_York:20240521T120000
END:VEVENT
END:VCALENDAR
