BEGIN:VCALENDAR
VERSION:2.0
PRODID:-//Sabre//Sabre VObject 4.5.8//EN
CALSCALE:GREGORIAN
LAST-MODIFIED:20240208T155851Z
BEGIN:VTIMEZONE
TZID:America/New_York
X-MICROSOFT-CDO-TZID:10
BEGIN:DAYLIGHT
DTSTART:20230312T070000
TZOFFSETFROM:-0500
TZOFFSETTO:-0400
TZNAME:EDT
END:DAYLIGHT
BEGIN:DAYLIGHT
DTSTART:20240310T070000
TZOFFSETFROM:-0500
TZOFFSETTO:-0400
TZNAME:EDT
END:DAYLIGHT
BEGIN:STANDARD
DTSTART:20231105T060000
TZOFFSETFROM:-0400
TZOFFSETTO:-0500
TZNAME:EST
END:STANDARD
END:VTIMEZONE
BEGIN:VEVENT
UID:8e8242af-7a68-40e4-9a7f-71e2f06b6b12
DTSTAMP:20240208T155851Z
SUMMARY:W3C CCG - Coalition for Content Provenance and Authenticity (C2PA)
DTSTART;TZID=America/New_York:20240305T120000
DTEND;TZID=America/New_York:20240305T125000
DESCRIPTION:https://www.w3.org/events/meetings/8e8242af-7a68-40e4-9a7f-71e2
 f06b6b12/20240305T120000/\n\nLeonard Rosenthal and Eric Scouten presenting
  on Coalition for Content Provenance and Authenticity (C2PA)\n\nMeeting Li
 nk:  https://meet.w3c-ccg.org/weekly\nMinutes:  https://w3c-ccg.github.io/
 meetings/\n\nAgenda\n\n1. Agenda Review \n2. Code of Ethics & Professional
  Conduct Reminder https://www.w3.org/Consortium/cepc/ \n3. IP Note: \nAnyo
 ne can participate in these calls. However\, all substantive contributors 
 to any CCG Work Items must be members of the CCG with full IPR agreements 
 signed. https://www.w3.org/community/credentials/join\n    a. Ensure you h
 ave a W3 account: https://www.w3.org/accounts/request\n    b. W3C COMMUNIT
 Y CONTRIBUTOR LICENSE AGREEMENT (CLA):\nhttps://www.w3.org/community/about
 /agreements/cla/\n4. Call Notes \n    a. These minutes and an audio record
 ing of everything said on this call are archived at https://w3c-ccg.github
 .io/meetings/\n    b. We use IRC to queue speakers during the call as well
  as to take minutes. http://irc.w3.org/?channels=ccg or http://irc.w3.org:
 6665/#ccg or the Jitsi text chat.\n    c. In IRC type “q+” to add your
 self to the queue\, with an optional reminder\, e.g.\, “q+ to mention so
 mething”. The “to” is required.\n    d. If you’re not on the chat\
 , simply ask to be put on the queue.\n    e. Please be brief so the rest o
 f the queue get a chance to chime in. You can always q+ again.\n    f. NOT
 E: This meeting is held by voice\, not by IRC. Off-topic IRC comments are 
 subject to deletion from the record. We work hard to manage a single threa
 d of conversation so everyone can participate and be heard. Please respect
  the group process by joining the queue when you have something to contrib
 ute.\n5. Optional Scribe Selection \nWe need a volunteer to scribe in case
  auto transcription fails. Scribe List:\nhttps://docs.google.com/document/
 d/1LkqZ10z7FeV3EgMIQEJ9achEYMzy1d_2S90Q_lQ0y8M/edit?usp=sharing\n6. Introd
 uctions & Reintroductions (see scribe doc for reintroduce column)\n7. Anno
 uncements & Reminders https://w3c-ccg.github.io/announcements/\n8. Progres
 s on Action Items \nhttps://github.com/w3c-ccg/community/issues?q=is%3Aope
 n+is%3Aissue+label%3A%22action%3A+review+next%22\n9. Presentations\n10. Ge
 neral Q&A\n\nJoining Instructions: https://meet.w3c-ccg.org/weekly\n\nJoin
 ing Instructions\n\nJitsi Teleconference:\n      https://meet.w3c-ccg.org/
 weekly\n\nText Chat:\n      http://irc.w3.org/?channels=ccg\n      irc://i
 rc.w3.org:6665/#ccg\n\nVoice:\n     US phone: tel:+1.602.932.2243\;1
STATUS:CONFIRMED
CREATED:20240117T231819Z
LAST-MODIFIED:20240208T155851Z
SEQUENCE:4
ORGANIZER;CN=W3C Calendar;PARTSTAT=ACCEPTED;ROLE=NON-PARTICIPANT:mailto:nor
 eply@w3.org
ATTENDEE;CUTYPE=GROUP;ROLE=OPT-PARTICIPANT;RSVP=FALSE;CN=Credentials Commun
 ity Group:mailto:public-credentials@w3.org
ATTENDEE;CN=Jin Wen:mailto:jwen@noknok.com
RECURRENCE-ID;TZID=America/New_York:20240305T120000
END:VEVENT
END:VCALENDAR
