BEGIN:VCALENDAR
VERSION:2.0
PRODID:-//Sabre//Sabre VObject 4.5.8//EN
CALSCALE:GREGORIAN
LAST-MODIFIED:20220104T072436Z
BEGIN:VTIMEZONE
TZID:Etc/UTC
BEGIN:STANDARD
DTSTART:20201219T160000
TZOFFSETFROM:+0000
TZOFFSETTO:+0000
TZNAME:UTC
END:STANDARD
END:VTIMEZONE
BEGIN:VEVENT
UID:8e2cfda3-4b45-43ef-9f0e-cee19d7aae3d
DTSTAMP:20220104T072436Z
SUMMARY:WebRTC WG December 2021 call
DTSTART;TZID=Etc/UTC:20211214T160000
DTEND;TZID=Etc/UTC:20211214T180000
DESCRIPTION:https://www.w3.org/events/meetings/8e2cfda3-4b45-43ef-9f0e-cee1
 9d7aae3d/\n\n\n\nAgenda: https://www.w3.org/2011/04/webrtc/wiki/December_1
 4_2021
STATUS:CONFIRMED
CREATED:20211117T072729Z
LAST-MODIFIED:20220104T072436Z
SEQUENCE:1
ORGANIZER;CN=W3C Calendar;PARTSTAT=ACCEPTED;ROLE=NON-PARTICIPANT:mailto:nor
 eply@w3.org
ATTENDEE;CUTYPE=GROUP;ROLE=OPT-PARTICIPANT;RSVP=FALSE;CN=Web Real-Time Comm
 unications Working Group:mailto:public-webrtc@w3.org
END:VEVENT
END:VCALENDAR
