BEGIN:VCALENDAR
VERSION:2.0
PRODID:-//Sabre//Sabre VObject 4.5.8//EN
CALSCALE:GREGORIAN
LAST-MODIFIED:20241211T075158Z
BEGIN:VTIMEZONE
TZID:Etc/UTC
BEGIN:STANDARD
DTSTART:20231216T160000
TZOFFSETFROM:+0000
TZOFFSETTO:+0000
TZNAME:UTC
END:STANDARD
END:VTIMEZONE
BEGIN:VEVENT
UID:8bb41392-8550-43ce-8f6f-596dbb76ce11
DTSTAMP:20241211T075158Z
SUMMARY:WebRTC WG December 2024 call
DTSTART;TZID=Etc/UTC:20241210T160000
DTEND;TZID=Etc/UTC:20241210T180000
DESCRIPTION:https://www.w3.org/events/meetings/8bb41392-8550-43ce-8f6f-596d
 bb76ce11/\n\n\n\nAgenda: https://www.w3.org/2011/04/webrtc/wiki/December_1
 0_2024
STATUS:CONFIRMED
CREATED:20240819T094306Z
LAST-MODIFIED:20241211T075158Z
SEQUENCE:1
ORGANIZER;CN=W3C Calendar;PARTSTAT=ACCEPTED;ROLE=NON-PARTICIPANT:mailto:nor
 eply@w3.org
ATTENDEE;CUTYPE=GROUP;ROLE=OPT-PARTICIPANT;RSVP=FALSE;CN=Web Real-Time Comm
 unications Working Group:mailto:public-webrtc@w3.org
END:VEVENT
END:VCALENDAR
