BEGIN:VCALENDAR
VERSION:2.0
PRODID:-//Sabre//Sabre VObject 4.5.8//EN
CALSCALE:GREGORIAN
LAST-MODIFIED:20241009T170112Z
BEGIN:VTIMEZONE
TZID:America/Los_Angeles
X-MICROSOFT-CDO-TZID:13
BEGIN:STANDARD
DTSTART:20231105T090000
TZOFFSETFROM:-0700
TZOFFSETTO:-0800
TZNAME:PST
END:STANDARD
BEGIN:STANDARD
DTSTART:20241103T090000
TZOFFSETFROM:-0700
TZOFFSETTO:-0800
TZNAME:PST
END:STANDARD
BEGIN:DAYLIGHT
DTSTART:20240310T100000
TZOFFSETFROM:-0800
TZOFFSETTO:-0700
TZNAME:PDT
END:DAYLIGHT
END:VTIMEZONE
BEGIN:VEVENT
UID:8b398afb-04d4-4e27-81ed-fa5cd11d9a4a
DTSTAMP:20241009T170112Z
SUMMARY:ARIA and Assistive Technologies Community Group Weekly Teleconferen
 ce
DTSTART;TZID=America/Los_Angeles:20241009T100000
DTEND;TZID=America/Los_Angeles:20241009T110000
DESCRIPTION:https://www.w3.org/events/meetings/8b398afb-04d4-4e27-81ed-fa5c
 d11d9a4a/20241009T100000/\n\nWeekly meeting focused primarily on generatin
 g ARIA-AT reports via manual testing. Alternates between an earlier Wednes
 day time one week and later Thursday time the next.\n\nAgenda: https://git
 hub.com/w3c/aria-at/wiki/October-9%2C-2024-Agenda\n\nAgenda\n\n### Review 
 agenda and next meeting dates\n\n* Requests for changes to agenda?\n* Next
  Community Group Meeting: Thursday October 17\n* Next AT Driver Subgroup m
 eeting: Monday November 4\n\n### Current status\n\nGoals:\n* 6 recommended
  plans by September 30.\n* Total of 10 Recommended + 10 in Candidate Revie
 w by December 31.\n\nStatus: Behind schedule\n\n#### 7 refactored plans in
  candidate review\n\nPlan | Vispero | Apple\n--- | --- | ---\nalert | Appr
 oved | In Review\ncommand button | Approved | In review\nlink | Approved |
  In review\ntoggle button | approved | In review\n[Modal Dialog Example](h
 ttps://aria-at.w3.org/data-management/modal-dialog) | Approved | Not start
 ed\nradio group | in-progress (investigating app issue related to reportin
 g priority 3 as a fail) | Not started\n[Color Viewer Slider](https://aria-
 at.w3.org/data-management/horizontal-slider) | in review | Not started\n\n
 #### Three refactored plans in draft review\n\n1. [Action Menu Button Exam
 ple Using aria-activedescendant](https://aria-at.w3.org/data-management/me
 nu-button-actions-active-descendant)\n1. [Navigation Menu Button](https://
 aria-at.w3.org/data-management/menu-button-navigation)\n1. [Disclosure Nav
 igation Menu Example](https://aria-at.w3.org/data-management/disclosure-na
 vigation)\n\n#### Refactor in progress\n\n1. [Action Menu Button Example U
 sing element.focus](https://aria-at.w3.org/data-management/menu-button-act
 ions)\n1. [Radio Group Example Using Roving tabindex](https://aria-at.w3.o
 rg/data-management/radiogroup-roving-tabindex)\n\n### Testing action menu 
 button with activeDescendant\n\nCheck-in on status.\n\n### Testing navigat
 ion menu button\n\n[Navigation Menu Button](https://aria-at.w3.org/data-ma
 nagement/menu-button-navigation)\n\n### Disclosure Navigation Menu Plan Up
 date\n\n[Preview of Disclosure Navigation Menu Example Test Plan | For Pat
 tern: disclosure-navigation](https://deploy-preview-1134--aria-at.netlify.
 app/review/disclosure-navigation)
STATUS:CONFIRMED
CREATED:20241009T170111Z
LAST-MODIFIED:20241009T170112Z
SEQUENCE:3
ORGANIZER;CN=W3C Calendar;PARTSTAT=ACCEPTED;ROLE=NON-PARTICIPANT:mailto:nor
 eply@w3.org
ATTENDEE;CUTYPE=GROUP;ROLE=OPT-PARTICIPANT;RSVP=FALSE;CN=ARIA and Assistive
  Technologies Community Group:mailto:public-aria-at@w3.org
RECURRENCE-ID;TZID=America/Los_Angeles:20241009T100000
END:VEVENT
END:VCALENDAR
