BEGIN:VCALENDAR
VERSION:2.0
PRODID:-//Sabre//Sabre VObject 4.5.8//EN
CALSCALE:GREGORIAN
LAST-MODIFIED:20240228T073834Z
BEGIN:VTIMEZONE
TZID:America/Los_Angeles
X-MICROSOFT-CDO-TZID:13
BEGIN:DAYLIGHT
DTSTART:20230312T100000
TZOFFSETFROM:-0800
TZOFFSETTO:-0700
TZNAME:PDT
END:DAYLIGHT
BEGIN:DAYLIGHT
DTSTART:20240310T100000
TZOFFSETFROM:-0800
TZOFFSETTO:-0700
TZNAME:PDT
END:DAYLIGHT
BEGIN:STANDARD
DTSTART:20231105T090000
TZOFFSETFROM:-0700
TZOFFSETTO:-0800
TZNAME:PST
END:STANDARD
END:VTIMEZONE
BEGIN:VEVENT
UID:8b398afb-04d4-4e27-81ed-fa5cd11d9a4a
DTSTAMP:20240228T073834Z
SUMMARY:ARIA and Assistive Technologies Community Group Weekly Teleconferen
 ce
DTSTART;TZID=America/Los_Angeles:20240228T100000
DTEND;TZID=America/Los_Angeles:20240228T110000
DESCRIPTION:https://www.w3.org/events/meetings/8b398afb-04d4-4e27-81ed-fa5c
 d11d9a4a/20240228T100000/\n\nWeekly meeting focused primarily on generatin
 g ARIA-AT reports via manual testing. Alternates between an earlier Wednes
 day time one week and later Thursday time the next.\n\nAgenda: https://git
 hub.com/w3c/aria-at/wiki/February-28%2C-2024-Agenda\n\nAgenda\n\n### Revie
 w agenda and next meeting dates\n\n* Next meeting: March 7\n* Requests for
  changes to agenda?\n\n### Automation subgroup meeting planning\n\n1. Revi
 ew pole results\n1. Make automation meeting time decision\n\n### Command a
 nd toggle button test plans\n\n1. Fix complete for toggle button role issu
 e\, [issue 1031](https://github.com/w3c/aria-at/issues/1031)\n1. Questions
  related to [feedback issue 1030](https://github.com/w3c/aria-at/issues/10
 30):\n    1. Should 'b' quick nav command be added to [first 4 toggle butt
 on VoiceOver tests](https://deploy-preview-1041--aria-at.netlify.app/revie
 w/toggle-button)?\n    1. Should 'b' quick nav command be added to [first 
 3 VoiceOver tests in button test plan](https://aria-at.w3.org/report/62353
 /targets/232)?\n1. To preserve as much existing manual test data as possib
 le\, waiting on deployment of new app code before advancing new test plan 
 versions to draft review.\n1. Discuss target date for resolving app deploy
 ment blockers and deploying app update:\n    1. [Feedback on unexpected be
 haviors functionality in issue 738](https://github.com/w3c/aria-at-app/iss
 ues/738#issuecomment-1965711069)\n      to be resolved by [PR 939](https:/
 /github.com/w3c/aria-at-app/pull/939)\n      and [PR 1016](https://github.
 com/w3c/aria-at/pull/1016)\n    1. [Feedback about incorrect content on te
 st plan view page in issue 745](https://github.com/w3c/aria-at-app/issues/
 745#issuecomment-1965638839)\n\n### Radio test plan\n\n1. Radio test plan 
 refactor on hold until resolution of [issue 1039](https://github.com/w3c/a
 ria-at/issues/1039))\n1. Will be resolved by [PR 1042: Update tests.csv to
  override priority in assertions column by howard-e](https://github.com/w3
 c/aria-at/pull/1042#pullrequestreview-1905198701)\n1. Discuss time table.\
 n\n### Assertion priority definitions\n\n[Define meaning of assertion prio
 rities: "MUST"\, "SHOULD"\, and "MAY" · Issue #1033 · w3c/aria-at](https
 ://github.com/w3c/aria-at/issues/1033)\n\n### Response to Vispero alert te
 st plan feedback\n\nBased on previously discussed assertion priority defin
 itions\, discuss how to resolve Vispero Feedback:\n[JAWS Changes Requested
 : "Trigger an alert" (Alert Example\, Test 3\, V23.12.06) · Issue #1032 
 · w3c/aria-at](https://github.com/w3c/aria-at/issues/1032)\n\n### Proposa
 l to change terminology used for undesirable behaviors\n\n[Proposal for ne
 w terminology for the phenomena we currently call "undesirable behaviors" 
 or "Other behaviors with negative impact" · Issue #1043 · w3c/aria-at](h
 ttps://github.com/w3c/aria-at/issues/1043)
STATUS:CONFIRMED
CREATED:20240228T073831Z
LAST-MODIFIED:20240228T073834Z
SEQUENCE:3
ORGANIZER;CN=W3C Calendar;PARTSTAT=ACCEPTED;ROLE=NON-PARTICIPANT:mailto:nor
 eply@w3.org
ATTENDEE;CUTYPE=GROUP;ROLE=OPT-PARTICIPANT;RSVP=FALSE;CN=ARIA and Assistive
  Technologies Community Group:mailto:public-aria-at@w3.org
RECURRENCE-ID;TZID=America/Los_Angeles:20240228T100000
END:VEVENT
END:VCALENDAR
