BEGIN:VCALENDAR
VERSION:2.0
PRODID:-//Sabre//Sabre VObject 4.5.8//EN
CALSCALE:GREGORIAN
LAST-MODIFIED:20260219T072559Z
BEGIN:VTIMEZONE
TZID:Asia/Tokyo
X-MICROSOFT-CDO-TZID:20
BEGIN:STANDARD
DTSTART:20241115T233000
TZOFFSETFROM:+0900
TZOFFSETTO:+0900
TZNAME:JST
END:STANDARD
END:VTIMEZONE
BEGIN:VEVENT
UID:8b1b3b2d-132e-4ce5-a00a-dff9d7bb70a4
DTSTAMP:20260219T072559Z
SUMMARY:Privacy Pass for digital ads verification
DTSTART;TZID=Asia/Tokyo:20251111T083000
DTEND;TZID=Asia/Tokyo:20251111T093000
DESCRIPTION:https://www.w3.org/events/meetings/8b1b3b2d-132e-4ce5-a00a-dff9
 d7bb70a4/\n\nDevice spoofing is a pervasive problem in digital ads\, with 
 bots masquerading as user devices\, and bad actors spoofing high-value Con
 nected TV inventory. This results in wasted ad spend for advertisers and r
 educed ad revenue for legitimate publishers. The Privacy Pass protocol\, w
 hich enables devices to assert their authenticity in a privacy-preserving 
 manner\, has been adopted for a digital ads verification use case. This im
 plementation is being standardized within the IAB Tech Lab's Open Measurem
 ent SDK to simplify broad adoption by publishers. Using this mechanism\, V
 erifiers (Origins in Privacy Pass)\, which are typically Traffic Quality /
  ad verification vendors\, will be able to uncover sellers of spoofed inve
 ntory and take enforcement actions on them.\n\nWe will present the mechani
 sm and how a "positive" and anonymous signal that does not have 100% cover
 age can be used for fraud detection.\n\n**Goal(s):**\nTo create awareness 
 of a new fraud detection use case implemented with Privacy Pass and to sol
 icit feedback on potential improvements.\n\nAgenda\n\n**Materials:**\n- [S
 ession proposal on GitHub](https://github.com/w3c/tpac2025-breakouts/issue
 s/4)
STATUS:CONFIRMED
CREATED:20251028T073324Z
LAST-MODIFIED:20260219T072559Z
SEQUENCE:3
ORGANIZER;CN=W3C Calendar;PARTSTAT=ACCEPTED;ROLE=NON-PARTICIPANT:mailto:nor
 eply@w3.org
LOCATION:Floor 4 - 404
CATEGORIES:TPAC 2025,Breakout Sessions
END:VEVENT
END:VCALENDAR
