BEGIN:VCALENDAR
VERSION:2.0
PRODID:-//Sabre//Sabre VObject 4.5.8//EN
CALSCALE:GREGORIAN
LAST-MODIFIED:20240316T030836Z
BEGIN:VTIMEZONE
TZID:America/Los_Angeles
X-MICROSOFT-CDO-TZID:13
BEGIN:STANDARD
DTSTART:20231105T090000
TZOFFSETFROM:-0700
TZOFFSETTO:-0800
TZNAME:PST
END:STANDARD
BEGIN:STANDARD
DTSTART:20241103T090000
TZOFFSETFROM:-0700
TZOFFSETTO:-0800
TZNAME:PST
END:STANDARD
BEGIN:DAYLIGHT
DTSTART:20240310T100000
TZOFFSETFROM:-0800
TZOFFSETTO:-0700
TZNAME:PDT
END:DAYLIGHT
END:VTIMEZONE
BEGIN:VEVENT
UID:8a7b1243-c5da-4d1b-8a16-e7207fa7276f
DTSTAMP:20240316T030836Z
SUMMARY:WECG Meetup in San Diego
DTSTART;TZID=America/Los_Angeles:20240318T090000
DTEND;TZID=America/Los_Angeles:20240318T170000
DESCRIPTION:https://www.w3.org/events/meetings/8a7b1243-c5da-4d1b-8a16-e720
 7fa7276f/20240318T090000/\n\nhttps://github.com/w3c/webextensions/issues/5
 25
STATUS:CONFIRMED
CREATED:20240316T030628Z
LAST-MODIFIED:20240316T030836Z
SEQUENCE:2
ORGANIZER;CN=W3C Calendar;PARTSTAT=ACCEPTED;ROLE=NON-PARTICIPANT:mailto:nor
 eply@w3.org
ATTENDEE;CUTYPE=GROUP;ROLE=OPT-PARTICIPANT;RSVP=FALSE;CN=WebExtensions Comm
 unity Group:mailto:public-webextensions@w3.org
LOCATION:16620 W Bernardo Dr San Diego\, CA 92127 United States
RECURRENCE-ID;TZID=America/Los_Angeles:20240318T090000
END:VEVENT
END:VCALENDAR
