BEGIN:VCALENDAR
VERSION:2.0
PRODID:-//Sabre//Sabre VObject 4.5.8//EN
CALSCALE:GREGORIAN
LAST-MODIFIED:20210817T170624Z
BEGIN:VTIMEZONE
TZID:America/New_York
X-MICROSOFT-CDO-TZID:10
BEGIN:STANDARD
DTSTART:20201101T060000
TZOFFSETFROM:-0400
TZOFFSETTO:-0500
TZNAME:EST
END:STANDARD
BEGIN:STANDARD
DTSTART:20211107T060000
TZOFFSETFROM:-0400
TZOFFSETTO:-0500
TZNAME:EST
END:STANDARD
BEGIN:DAYLIGHT
DTSTART:20210314T070000
TZOFFSETFROM:-0500
TZOFFSETTO:-0400
TZNAME:EDT
END:DAYLIGHT
END:VTIMEZONE
BEGIN:VEVENT
UID:8a20a876-5eb4-4f5a-8c54-dd4d0081ceb6
DTSTAMP:20210817T170624Z
SUMMARY:ARIA Deep Dive - Should dialog/alertdialog be modal or non-modal by
  default?
DTSTART;TZID=America/New_York:20210902T120000
DTEND;TZID=America/New_York:20210902T130000
DESCRIPTION:https://www.w3.org/events/meetings/8a20a876-5eb4-4f5a-8c54-dd4d
 0081ceb6/\n\nhttps://github.com/w3c/aria/issues/1210
STATUS:CONFIRMED
CREATED:20210813T100108Z
LAST-MODIFIED:20210817T170624Z
SEQUENCE:2
ORGANIZER;CN=W3C Calendar;PARTSTAT=ACCEPTED;ROLE=NON-PARTICIPANT:mailto:nor
 eply@w3.org
ATTENDEE;CUTYPE=GROUP;ROLE=OPT-PARTICIPANT;RSVP=FALSE;CN=Accessible Rich In
 ternet Applications Working Group:mailto:public-aria@w3.org
END:VEVENT
END:VCALENDAR
