BEGIN:VCALENDAR
VERSION:2.0
PRODID:-//Sabre//Sabre VObject 4.5.8//EN
CALSCALE:GREGORIAN
LAST-MODIFIED:20240822T160127Z
BEGIN:VTIMEZONE
TZID:Etc/UTC
BEGIN:STANDARD
DTSTART:20230828T150000
TZOFFSETFROM:+0000
TZOFFSETTO:+0000
TZNAME:UTC
END:STANDARD
END:VTIMEZONE
BEGIN:VEVENT
UID:89ce6b72-a5cd-4ef7-98c0-a4a57dd78afc
DTSTAMP:20240822T160127Z
SUMMARY:WebView CG Meeting
DTSTART;TZID=Etc/UTC:20240822T150000
DTEND;TZID=Etc/UTC:20240822T160000
DESCRIPTION:https://www.w3.org/events/meetings/89ce6b72-a5cd-4ef7-98c0-a4a5
 7dd78afc/\n\nRecurring CG meeting on a monthly basis.\n\nAgenda\n\nThree t
 opics to discuss:\n* FYI W3C Groups Community Survey (https://www.w3.org/n
 ews/2024/w3c-opens-community-wide-survey/)\n* Review TPAC agenda\n* Discus
 s survey & baseline
STATUS:CONFIRMED
CREATED:20240812T163530Z
LAST-MODIFIED:20240822T160127Z
SEQUENCE:1
ORGANIZER;CN=W3C Calendar;PARTSTAT=ACCEPTED;ROLE=NON-PARTICIPANT:mailto:nor
 eply@w3.org
ATTENDEE;CUTYPE=GROUP;ROLE=OPT-PARTICIPANT;RSVP=FALSE;CN=WebView Community 
 Group:mailto:public-webview@w3.org
END:VEVENT
END:VCALENDAR
