BEGIN:VCALENDAR
VERSION:2.0
PRODID:-//Sabre//Sabre VObject 4.5.8//EN
CALSCALE:GREGORIAN
LAST-MODIFIED:20251106T141119Z
BEGIN:VTIMEZONE
TZID:Asia/Tokyo
X-MICROSOFT-CDO-TZID:20
BEGIN:STANDARD
DTSTART:20241118T000000
TZOFFSETFROM:+0900
TZOFFSETTO:+0900
TZNAME:JST
END:STANDARD
END:VTIMEZONE
BEGIN:VEVENT
UID:88e0ec80-d710-4584-a15c-eb305b37e28e
DTSTAMP:20251106T141119Z
SUMMARY:Web Editing Working Group
DTSTART;TZID=Asia/Tokyo:20251113T090000
DTEND;TZID=Asia/Tokyo:20251113T164500
DESCRIPTION:https://www.w3.org/events/meetings/88e0ec80-d710-4584-a15c-eb30
 5b37e28e/\n\n\n\nAgenda: https://github.com/w3c/editing/issues/487
STATUS:CONFIRMED
CREATED:20250716T142750Z
LAST-MODIFIED:20251106T141119Z
SEQUENCE:8
ORGANIZER;CN=W3C Calendar;PARTSTAT=ACCEPTED;ROLE=NON-PARTICIPANT:mailto:nor
 eply@w3.org
ATTENDEE;CUTYPE=GROUP;ROLE=OPT-PARTICIPANT;RSVP=FALSE;CN=Web Editing Workin
 g Group:mailto:public-editing-tf@w3.org
LOCATION:Floor 3 - 305
CATEGORIES:TPAC 2025,Group Meetings
END:VEVENT
END:VCALENDAR
