BEGIN:VCALENDAR
VERSION:2.0
PRODID:-//Sabre//Sabre VObject 4.5.8//EN
CALSCALE:GREGORIAN
LAST-MODIFIED:20240913T203156Z
BEGIN:VTIMEZONE
TZID:Europe/Berlin
X-MICROSOFT-CDO-TZID:4
BEGIN:STANDARD
DTSTART:20231029T010000
TZOFFSETFROM:+0200
TZOFFSETTO:+0100
TZNAME:CET
END:STANDARD
BEGIN:STANDARD
DTSTART:20241027T010000
TZOFFSETFROM:+0200
TZOFFSETTO:+0100
TZNAME:CET
END:STANDARD
BEGIN:DAYLIGHT
DTSTART:20240331T010000
TZOFFSETFROM:+0100
TZOFFSETTO:+0200
TZNAME:CEST
END:DAYLIGHT
END:VTIMEZONE
BEGIN:VEVENT
UID:881f7fe2-a545-4d7a-90c7-655d0f9cbd0e
DTSTAMP:20240913T203156Z
SUMMARY:WoT CG Monthly Call
DTSTART;TZID=Europe/Berlin:20241001T160000
DTEND;TZID=Europe/Berlin:20241001T170000
DESCRIPTION:https://www.w3.org/events/meetings/881f7fe2-a545-4d7a-90c7-655d
 0f9cbd0e/20241001T160000/\n\nColocated with meetup at https://www.w3.org/e
 vents/meetings/b74f11e7-93d6-4b15-b998-6e55054a6f61/\n\nThe WoT Community 
 Group accelerates and fosters collaboration around the WoT standards of th
 e Working Group. In these monthly meetings\, you can join to discuss the w
 ork of the CG such as:\n\n- reports from the focus groups or task forces\n
 - a casual showcase of your WoT project to get feedback\n- planning of act
 ivities such as meetups and plugfests\n- any relevant topics around WoT\n-
  reach CG resolutions\n\nAgenda: https://github.com/w3c/wot-cg/wiki/Meetin
 g-Agenda
STATUS:CANCELLED
CREATED:20240913T203154Z
LAST-MODIFIED:20240913T203156Z
SEQUENCE:1
ORGANIZER;CN=W3C Calendar;PARTSTAT=ACCEPTED;ROLE=NON-PARTICIPANT:mailto:nor
 eply@w3.org
ATTENDEE;CUTYPE=GROUP;ROLE=OPT-PARTICIPANT;RSVP=FALSE;CN=Web of Things Comm
 unity Group:mailto:public-web-of-things@w3.org
RECURRENCE-ID;TZID=Europe/Berlin:20241001T160000
END:VEVENT
END:VCALENDAR
