BEGIN:VCALENDAR
VERSION:2.0
PRODID:-//Sabre//Sabre VObject 4.5.8//EN
CALSCALE:GREGORIAN
LAST-MODIFIED:20230727T192615Z
BEGIN:VTIMEZONE
TZID:America/Los_Angeles
X-MICROSOFT-CDO-TZID:13
BEGIN:STANDARD
DTSTART:20221106T090000
TZOFFSETFROM:-0700
TZOFFSETTO:-0800
TZNAME:PST
END:STANDARD
BEGIN:STANDARD
DTSTART:20231105T090000
TZOFFSETFROM:-0700
TZOFFSETTO:-0800
TZNAME:PST
END:STANDARD
BEGIN:DAYLIGHT
DTSTART:20230312T100000
TZOFFSETFROM:-0800
TZOFFSETTO:-0700
TZNAME:PDT
END:DAYLIGHT
END:VTIMEZONE
BEGIN:VEVENT
UID:87b5b97f-f256-47d7-8c51-225bf94f473a
DTSTAMP:20230727T192615Z
SUMMARY:Deep Dive: Further use cases for aria-modal
DTSTART;TZID=America/Los_Angeles:20230803T090000
DTEND;TZID=America/Los_Angeles:20230803T100000
DESCRIPTION:https://www.w3.org/events/meetings/87b5b97f-f256-47d7-8c51-225b
 f94f473a/\n\n\n\nAgenda\n\n[Consider further use cases for aria-modal/pote
 ntial values #1950](https://github.com/w3c/aria/issues/1950)
STATUS:CONFIRMED
CREATED:20230727T192612Z
LAST-MODIFIED:20230727T192615Z
SEQUENCE:0
ORGANIZER;CN=W3C Calendar;PARTSTAT=ACCEPTED;ROLE=NON-PARTICIPANT:mailto:nor
 eply@w3.org
ATTENDEE;CUTYPE=GROUP;ROLE=OPT-PARTICIPANT;RSVP=FALSE;CN=Accessible Rich In
 ternet Applications Working Group:mailto:public-aria@w3.org
END:VEVENT
END:VCALENDAR
