BEGIN:VCALENDAR
VERSION:2.0
PRODID:-//Sabre//Sabre VObject 4.5.8//EN
CALSCALE:GREGORIAN
LAST-MODIFIED:20220713T201947Z
BEGIN:VTIMEZONE
TZID:Europe/Vienna
BEGIN:STANDARD
DTSTART:20211031T010000
TZOFFSETFROM:+0200
TZOFFSETTO:+0100
TZNAME:CET
END:STANDARD
BEGIN:STANDARD
DTSTART:20221030T010000
TZOFFSETFROM:+0200
TZOFFSETTO:+0100
TZNAME:CET
END:STANDARD
BEGIN:DAYLIGHT
DTSTART:20220327T010000
TZOFFSETFROM:+0100
TZOFFSETTO:+0200
TZNAME:CEST
END:DAYLIGHT
END:VTIMEZONE
BEGIN:VEVENT
UID:87901c0a-43ba-4853-9aa8-e51f061377cf
DTSTAMP:20220713T201947Z
SUMMARY:DPVCG Meeting Call 20 JUL 2022
DTSTART;TZID=Europe/Vienna:20220720T140000
DTEND;TZID=Europe/Vienna:20220720T150000
DESCRIPTION:https://www.w3.org/events/meetings/87901c0a-43ba-4853-9aa8-e51f
 061377cf/\n\n\n\nAgenda\n\nPrevious minutes: https://www.w3.org/community/
 dpvcg/wiki/Meeting_Calls#Minutes_of_Meetings\n\nWe will undertake the belo
 w topics in order of recent updates (if any) or preferences of attendees.\
 n\n1. Implementing DPIA concepts in extension - see email https://lists.w3
 .org/Archives/Public/public-dpvcg/2022May/0003.html\n2. Implementing Risk 
 concepts in extension\n3. Implementing Rights concepts in extension - see 
 email https://lists.w3.org/Archives/Public/public-dpvcg/2022May/0005.html\
 n4. Implementing Rules concepts in DPV - see email https://lists.w3.org/Ar
 chives/Public/public-dpvcg/2022May/0010.html\n5. Association of ISO and ot
 her standards to DPV concepts\n6. Updating Consent Concepts\n7. AOB - to a
 dd items\, reply to the agenda email
STATUS:CONFIRMED
CREATED:20220713T201946Z
LAST-MODIFIED:20220713T201947Z
SEQUENCE:0
ORGANIZER;CN=W3C Calendar;PARTSTAT=ACCEPTED;ROLE=NON-PARTICIPANT:mailto:nor
 eply@w3.org
ATTENDEE;CUTYPE=GROUP;ROLE=OPT-PARTICIPANT;RSVP=FALSE;CN=Data Privacy Vocab
 ularies and Controls Community Group:mailto:public-dpvcg@w3.org
LOCATION:virtual
END:VEVENT
END:VCALENDAR
