BEGIN:VCALENDAR
VERSION:2.0
PRODID:-//Sabre//Sabre VObject 4.5.8//EN
CALSCALE:GREGORIAN
LAST-MODIFIED:20251204T151241Z
BEGIN:VTIMEZONE
TZID:Etc/UTC
BEGIN:STANDARD
DTSTART:20241216T140000
TZOFFSETFROM:+0000
TZOFFSETTO:+0000
TZNAME:UTC
END:STANDARD
END:VTIMEZONE
BEGIN:VEVENT
UID:873d3574-6f79-4c9d-af8b-07159130b8e6
DTSTAMP:20251204T151241Z
SUMMARY:BoD Personnel Committee
DTSTART;TZID=Etc/UTC:20251211T140000
DTEND;TZID=Etc/UTC:20251211T150000
DESCRIPTION:https://www.w3.org/events/meetings/873d3574-6f79-4c9d-af8b-0715
 9130b8e6/\n\n
STATUS:CONFIRMED
CREATED:20251204T151240Z
LAST-MODIFIED:20251204T151241Z
SEQUENCE:0
ORGANIZER;CN=W3C Calendar;PARTSTAT=ACCEPTED;ROLE=NON-PARTICIPANT:mailto:nor
 eply@w3.org
ATTENDEE;CUTYPE=GROUP;ROLE=OPT-PARTICIPANT;RSVP=FALSE;CN=Board Directors:ma
 ilto:board-directors@w3.org
ATTENDEE;CUTYPE=GROUP;ROLE=OPT-PARTICIPANT;RSVP=FALSE;CN=Board Personnel Co
 mmittee:mailto:board-personnel@w3.org
END:VEVENT
END:VCALENDAR
