BEGIN:VCALENDAR
VERSION:2.0
PRODID:-//Sabre//Sabre VObject 4.5.8//EN
CALSCALE:GREGORIAN
LAST-MODIFIED:20240723T061311Z
BEGIN:VTIMEZONE
TZID:Etc/UTC
BEGIN:STANDARD
DTSTART:20230704T100000
TZOFFSETFROM:+0000
TZOFFSETTO:+0000
TZNAME:UTC
END:STANDARD
END:VTIMEZONE
BEGIN:VEVENT
UID:85546152-5b50-44d0-b9f0-86119d8ce174
DTSTAMP:20240723T061311Z
SUMMARY:WebView CG Meeting
DTSTART;TZID=Etc/UTC:20240628T100000
DTEND;TZID=Etc/UTC:20240628T110000
DESCRIPTION:https://www.w3.org/events/meetings/85546152-5b50-44d0-b9f0-8611
 9d8ce174/\n\nRecurring CG meeting on a monthly basis.\n\nAgenda\n\nTwo top
 ics will be discussed:\n* The Compat  Data Project aka caniwebview.com - P
 rogress on the site and collecting & discussing data\n* Our plans for [TPA
 C 2024](https://www.w3.org/2024/05/tpac2024-schedule-20240523.html)
STATUS:CONFIRMED
CREATED:20240531T154613Z
LAST-MODIFIED:20240723T061311Z
SEQUENCE:1
ORGANIZER;CN=W3C Calendar;PARTSTAT=ACCEPTED;ROLE=NON-PARTICIPANT:mailto:nor
 eply@w3.org
ATTENDEE;CUTYPE=GROUP;ROLE=OPT-PARTICIPANT;RSVP=FALSE;CN=WebView Community 
 Group:mailto:public-webview@w3.org
END:VEVENT
END:VCALENDAR
