BEGIN:VCALENDAR
VERSION:2.0
PRODID:-//Sabre//Sabre VObject 4.5.8//EN
CALSCALE:GREGORIAN
LAST-MODIFIED:20220518T072040Z
BEGIN:VTIMEZONE
TZID:Etc/UTC
BEGIN:STANDARD
DTSTART:20210522T150000
TZOFFSETFROM:+0000
TZOFFSETTO:+0000
TZNAME:UTC
END:STANDARD
END:VTIMEZONE
BEGIN:VEVENT
UID:8529a558-4aae-4a70-96de-b85d1a352157
DTSTAMP:20220518T072040Z
SUMMARY:WebRTC WG May 2022 call
DTSTART;TZID=Etc/UTC:20220517T150000
DTEND;TZID=Etc/UTC:20220517T170000
DESCRIPTION:https://www.w3.org/events/meetings/8529a558-4aae-4a70-96de-b85d
 1a352157/\n\n\n\nAgenda: https://www.w3.org/2011/04/webrtc/wiki/May_17_202
 2
STATUS:CONFIRMED
CREATED:20220221T075729Z
LAST-MODIFIED:20220518T072040Z
SEQUENCE:1
ORGANIZER;CN=W3C Calendar;PARTSTAT=ACCEPTED;ROLE=NON-PARTICIPANT:mailto:nor
 eply@w3.org
ATTENDEE;CUTYPE=GROUP;ROLE=OPT-PARTICIPANT;RSVP=FALSE;CN=Web Real-Time Comm
 unications Working Group:mailto:public-webrtc@w3.org
END:VEVENT
END:VCALENDAR
