BEGIN:VCALENDAR
VERSION:2.0
PRODID:-//Sabre//Sabre VObject 4.5.8//EN
CALSCALE:GREGORIAN
LAST-MODIFIED:20211022T010816Z
BEGIN:VTIMEZONE
TZID:Etc/UTC
BEGIN:STANDARD
DTSTART:20201030T210000
TZOFFSETFROM:+0000
TZOFFSETTO:+0000
TZNAME:UTC
END:STANDARD
END:VTIMEZONE
BEGIN:VEVENT
UID:846fb79f-a5c9-4485-8d05-291e12d85f0e
DTSTAMP:20211022T010816Z
SUMMARY:TPAC - Web Manifest
DTSTART;TZID=Etc/UTC:20211025T210000
DTEND;TZID=Etc/UTC:20211025T230000
DESCRIPTION:https://www.w3.org/events/meetings/846fb79f-a5c9-4485-8d05-291e
 12d85f0e/\n\nWeb apps manifest TPAC meeting. \n\nZoom link:\nhttps://zoom.
 us/j/94632797975?pwd=anRlQ2ovNXhpVGhBL25vdmNkQWd5UT09\n\n## Agenda\n\n### 
 Welcome\n\n * quick introductions\n * agenda bashing\n\n### Web Extensions
  joint discussions (15 mins)\n\n* The process used to create the initial d
 rafts of the WebApps Manifest specification.\n* How changes are introduced
  to the WebApps Manifest spec.\n* Technical issues related to manifest spe
 cification.\n* Lessons learned and recommendations to help guide our manif
 est specification efforts.\n\n### Current work \n\n * Updates\n    - role 
 of user in update flow?\n    - what happens if you update and the page you
  are on is no longer is scope?\n * [Downloading sub-resources](https://git
 hub.com/w3c/manifest/issues/910)\n * What do we do about scope? [#539](htt
 ps://github.com/w3c/manifest/issues/539) \n * [Getting to CR](https://gith
 ub.com/w3c/manifest/milestone/1) - Do we need Editor refresh (i.e.\, new p
 eople to step up)? \n  \n### Future work + proposals\n\n* [Client hint for
  display mode](https://github.com/w3c/manifest/pull/977)\n* [Theme color +
  media](https://github.com/w3c/manifest/issues/975)\n* [File Handlers](htt
 ps://github.com/w3c/manifest/pull/1005)\n* [Protocol Handlers](https://git
 hub.com/w3c/manifest/pull/972)\n* [Scope Extensions](https://github.com/w3
 c/manifest/issues/1002)\n* URL Handlers\n* Multi Apps
STATUS:CONFIRMED
CREATED:20211004T051531Z
LAST-MODIFIED:20211022T010816Z
SEQUENCE:0
ORGANIZER;CN=W3C Calendar;PARTSTAT=ACCEPTED;ROLE=NON-PARTICIPANT:mailto:nor
 eply@w3.org
ATTENDEE;CUTYPE=GROUP;ROLE=OPT-PARTICIPANT;RSVP=FALSE;CN=Web Applications W
 orking Group:mailto:public-webapps@w3.org
LOCATION:Virtual - Zoom link coming soon...
END:VEVENT
END:VCALENDAR
