BEGIN:VCALENDAR
VERSION:2.0
PRODID:-//Sabre//Sabre VObject 4.5.8//EN
CALSCALE:GREGORIAN
LAST-MODIFIED:20240507T221755Z
BEGIN:VTIMEZONE
TZID:America/Los_Angeles
X-MICROSOFT-CDO-TZID:13
BEGIN:STANDARD
DTSTART:20231105T090000
TZOFFSETFROM:-0700
TZOFFSETTO:-0800
TZNAME:PST
END:STANDARD
BEGIN:STANDARD
DTSTART:20241103T090000
TZOFFSETFROM:-0700
TZOFFSETTO:-0800
TZNAME:PST
END:STANDARD
BEGIN:DAYLIGHT
DTSTART:20240310T100000
TZOFFSETFROM:-0800
TZOFFSETTO:-0700
TZNAME:PDT
END:DAYLIGHT
END:VTIMEZONE
BEGIN:VEVENT
UID:83e17937-b4fd-413c-967c-f0ddf72efdd6
DTSTAMP:20240507T221755Z
SUMMARY:ARIA Deep Dive - AriaNotify
DTSTART;TZID=America/Los_Angeles:20240523T090000
DTEND;TZID=America/Los_Angeles:20240523T100000
DESCRIPTION:https://www.w3.org/events/meetings/83e17937-b4fd-413c-967c-f0dd
 f72efdd6/\n\nAriaNotify is available in canary/dev builds of Chrome and Ed
 ge with the flag `--enable-blink-features=AriaNotify` on mac and windows. 
 Linux coming soon.\n\nAgenda\n\n* Overview the problem space and feature f
 or anyone new to the topic\n* Discuss updates to the explainer (naming and
  property syntax)\n* End to end demo\n* Discuss the spec work (Keith Cirke
 l has graciously volunteered to handle this). Where it should live\, see i
 f anyone would like to review and provide feedback\n* Figure out next step
 s\n* If there is time\, questions/discussion. Open issues here can also be
  a starting point: [Discussion tracking for ARIA Notification proposal · 
 Issue #1957 · w3c/aria](https://github.com/w3c/aria/issues/1957)
STATUS:CONFIRMED
CREATED:20240507T213411Z
LAST-MODIFIED:20240507T221755Z
SEQUENCE:2
ORGANIZER;CN=W3C Calendar;PARTSTAT=ACCEPTED;ROLE=NON-PARTICIPANT:mailto:nor
 eply@w3.org
ATTENDEE;CUTYPE=GROUP;ROLE=OPT-PARTICIPANT;RSVP=FALSE;CN=Accessible Rich In
 ternet Applications Working Group:mailto:public-aria@w3.org
END:VEVENT
END:VCALENDAR
