BEGIN:VCALENDAR
VERSION:2.0
PRODID:-//Sabre//Sabre VObject 4.5.8//EN
CALSCALE:GREGORIAN
LAST-MODIFIED:20221118T022852Z
BEGIN:VTIMEZONE
TZID:Etc/UTC
BEGIN:STANDARD
DTSTART:20211122T120000
TZOFFSETFROM:+0000
TZOFFSETTO:+0000
TZNAME:UTC
END:STANDARD
END:VTIMEZONE
BEGIN:VEVENT
UID:83b761a0-805d-40fe-a96e-dae5f5e4f755
DTSTAMP:20221118T022852Z
SUMMARY:MiniApps CG Teleconference
DTSTART;TZID=Etc/UTC:20221117T120000
DTEND;TZID=Etc/UTC:20221117T130000
DESCRIPTION:https://www.w3.org/events/meetings/83b761a0-805d-40fe-a96e-dae5
 f5e4f755/\n\n
STATUS:CONFIRMED
CREATED:20221114T015029Z
LAST-MODIFIED:20221118T022852Z
SEQUENCE:1
ORGANIZER;CN=W3C Calendar;PARTSTAT=ACCEPTED;ROLE=NON-PARTICIPANT:mailto:nor
 eply@w3.org
ATTENDEE;CUTYPE=GROUP;ROLE=OPT-PARTICIPANT;RSVP=FALSE;CN=MiniApps Ecosystem
  Community Group:mailto:public-miniapps@w3.org
END:VEVENT
END:VCALENDAR
