BEGIN:VCALENDAR
VERSION:2.0
PRODID:-//Sabre//Sabre VObject 4.5.8//EN
CALSCALE:GREGORIAN
LAST-MODIFIED:20220510T155049Z
BEGIN:VTIMEZONE
TZID:Europe/London
X-MICROSOFT-CDO-TZID:1
BEGIN:STANDARD
DTSTART:20211031T010000
TZOFFSETFROM:+0100
TZOFFSETTO:+0000
TZNAME:GMT
END:STANDARD
BEGIN:STANDARD
DTSTART:20221030T010000
TZOFFSETFROM:+0100
TZOFFSETTO:+0000
TZNAME:GMT
END:STANDARD
BEGIN:DAYLIGHT
DTSTART:20220327T010000
TZOFFSETFROM:+0000
TZOFFSETTO:+0100
TZNAME:BST
END:DAYLIGHT
END:VTIMEZONE
BEGIN:VEVENT
UID:83b1d2d3-7389-437a-b0d5-32441827a9a3
DTSTAMP:20220510T155049Z
SUMMARY:W3C Internationalization Working Group Teleconference
DTSTART;TZID=Europe/London:20220512T150000
DTEND;TZID=Europe/London:20220512T160000
DESCRIPTION:https://www.w3.org/events/meetings/83b1d2d3-7389-437a-b0d5-3244
 1827a9a3/20220512T150000/\n\n\n\nAgenda\n\n#### Pending Issue Review\nhttp
 s://github.com/w3c/i18n-activity/issues?q=is%3Aissue+is%3Aopen+label%3Apen
 ding\n* WOT Discovery\n* Baggage\n\n#### Changes to Specdev PR (5 issues)\
 nhttps://github.com/w3c/bp-i18n-specdev/pull/65\n\n#### Localizability of 
 Exceptions (webidl#996)\n\n#### String-Meta Progress\n\n### BE PREPARED \n
 \nHOMEWORK: https://lists.w3.org/Archives/Member/member-i18n-core/2022May/
 0002.html \n\n### REMINDER \n\nGetting too many of these notifications? Re
 ad [this](https://lists.w3.org/Archives/Member/member-i18n-core/2022Mar/00
 13.html) email from Richard on how to manage notifications.\n\n### SCRIBE 
 \n\nIf you are set to scribe and cannot make it\, please send regrets to t
 he chair. Volunteers to act as scribe cheerfully accepted.\n\nFuqiao [2022
 -04-07]\nAtsushi [2022-04-14]\nFelix [2022-04-21]\nBert [2022-04-28]\n\n##
 # MEETING INFO\n\nhttps://www.w3.org/2017/09/i18n-meeting-info.html (Membe
 r Only Link)\n\n### AGENDA \n\nTopic: Agenda Review\n\nTopic: Action Items
 \nhttp://www.w3.org/International/track/actions/open\n\nTopic: Info Share\
 n\nTopic: RADAR Review\nhttps://github.com/w3c/i18n-request/projects/1\n\n
 Topic: Pending Issue Review\n\nTopic: Pull-Request on specdev\n\nTopic: DO
 MException localizability\n\nTopic: String-Meta progress\n\nTopic: AOB?\n\
 n### Chair's Link Farm\nhttps://www.w3.org/International/track/actions/ope
 n\nhttps://github.com/w3c/i18n-request/projects/1\nhttps://github.com/w3c/
 i18n-activity/issues?q=is%3Aissue+is%3Aopen+label%3Apending
STATUS:CONFIRMED
CREATED:20220510T155048Z
LAST-MODIFIED:20220510T155049Z
SEQUENCE:3
ORGANIZER;CN=W3C Calendar;PARTSTAT=ACCEPTED;ROLE=NON-PARTICIPANT:mailto:nor
 eply@w3.org
ATTENDEE;CUTYPE=GROUP;ROLE=OPT-PARTICIPANT;RSVP=FALSE;CN=Internationalizati
 on Working Group:mailto:public-i18n-core@w3.org
LOCATION:https://www.w3.org/2017/09/i18n-meeting-info.html
RECURRENCE-ID;TZID=Europe/London:20220512T150000
END:VEVENT
END:VCALENDAR
