BEGIN:VCALENDAR
VERSION:2.0
PRODID:-//Sabre//Sabre VObject 4.5.8//EN
CALSCALE:GREGORIAN
LAST-MODIFIED:20220502T233157Z
BEGIN:VTIMEZONE
TZID:Europe/London
X-MICROSOFT-CDO-TZID:1
BEGIN:STANDARD
DTSTART:20211031T010000
TZOFFSETFROM:+0100
TZOFFSETTO:+0000
TZNAME:GMT
END:STANDARD
BEGIN:STANDARD
DTSTART:20221030T010000
TZOFFSETFROM:+0100
TZOFFSETTO:+0000
TZNAME:GMT
END:STANDARD
BEGIN:DAYLIGHT
DTSTART:20220327T010000
TZOFFSETFROM:+0000
TZOFFSETTO:+0100
TZNAME:BST
END:DAYLIGHT
END:VTIMEZONE
BEGIN:VEVENT
UID:83b1d2d3-7389-437a-b0d5-32441827a9a3
DTSTAMP:20220502T233157Z
SUMMARY:W3C Internationalization Working Group Teleconference
DTSTART;TZID=Europe/London:20220505T150000
DTEND;TZID=Europe/London:20220505T160000
DESCRIPTION:https://www.w3.org/events/meetings/83b1d2d3-7389-437a-b0d5-3244
 1827a9a3/20220505T150000/\n\n\n\nAgenda\n\n#### Pending Issue Review\nhttp
 s://github.com/w3c/i18n-activity/issues?q=is%3Aissue+is%3Aopen+label%3Apen
 ding\n* EPUB33 urgent review\n* WebGPU/WSGL\n* WOT Discovery\n\n#### Chang
 es to Specdev PR (5 issues)\nhttps://github.com/w3c/bp-i18n-specdev/pull/6
 5\n\n#### Localizability of Exceptions (webidl#996)\n\n#### String-Meta Pr
 ogress\n\n### BE PREPARED \n\nTBD\n\n### REMINDER \n\nGetting too many of 
 these notifications? Read [this](https://lists.w3.org/Archives/Member/memb
 er-i18n-core/2022Mar/0013.html) email from Richard on how to manage notifi
 cations.\n\n### SCRIBE \n\nIf you are set to scribe and cannot make it\, p
 lease send regrets to the chair. Volunteers to act as scribe cheerfully ac
 cepted.\n\nBert [2022-03-31]\nFuqiao [2022-04-07]\nAtsushi [2022-04-14]\nF
 elix [2022-04-21]\n\n### MEETING INFO\n\nhttps://www.w3.org/2017/09/i18n-m
 eeting-info.html (Member Only Link)\n\n### AGENDA \n\nTopic: Agenda Review
 \n\nTopic: Action Items\nhttp://www.w3.org/International/track/actions/ope
 n\n\nTopic: Info Share\n\nTopic: RADAR Review\nhttps://github.com/w3c/i18n
 -request/projects/1\n\nTopic: Pending Issue Review\n\nTopic: Pull-Request 
 on specdev\n\nTopic: DOMException localizability\n\nTopic: String-Meta pro
 gress\n\nTopic: AOB?\n\n### Chair's Link Farm\nhttps://www.w3.org/Internat
 ional/track/actions/open\nhttps://github.com/w3c/i18n-request/projects/1\n
 https://github.com/w3c/i18n-activity/issues?q=is%3Aissue+is%3Aopen+label%3
 Apending
STATUS:CONFIRMED
CREATED:20220502T233156Z
LAST-MODIFIED:20220502T233157Z
SEQUENCE:3
ORGANIZER;CN=W3C Calendar;PARTSTAT=ACCEPTED;ROLE=NON-PARTICIPANT:mailto:nor
 eply@w3.org
ATTENDEE;CUTYPE=GROUP;ROLE=OPT-PARTICIPANT;RSVP=FALSE;CN=Internationalizati
 on Working Group:mailto:public-i18n-core@w3.org
LOCATION:https://www.w3.org/2017/09/i18n-meeting-info.html
RECURRENCE-ID;TZID=Europe/London:20220505T150000
END:VEVENT
END:VCALENDAR
