BEGIN:VCALENDAR
VERSION:2.0
PRODID:-//Sabre//Sabre VObject 4.5.8//EN
CALSCALE:GREGORIAN
LAST-MODIFIED:20220426T171405Z
BEGIN:VTIMEZONE
TZID:Europe/London
X-MICROSOFT-CDO-TZID:1
BEGIN:STANDARD
DTSTART:20211031T010000
TZOFFSETFROM:+0100
TZOFFSETTO:+0000
TZNAME:GMT
END:STANDARD
BEGIN:STANDARD
DTSTART:20221030T010000
TZOFFSETFROM:+0100
TZOFFSETTO:+0000
TZNAME:GMT
END:STANDARD
BEGIN:DAYLIGHT
DTSTART:20220327T010000
TZOFFSETFROM:+0000
TZOFFSETTO:+0100
TZNAME:BST
END:DAYLIGHT
END:VTIMEZONE
BEGIN:VEVENT
UID:83b1d2d3-7389-437a-b0d5-32441827a9a3
DTSTAMP:20220426T171405Z
SUMMARY:W3C Internationalization Working Group Teleconference
DTSTART;TZID=Europe/London:20220428T150000
DTEND;TZID=Europe/London:20220428T160000
DESCRIPTION:https://www.w3.org/events/meetings/83b1d2d3-7389-437a-b0d5-3244
 1827a9a3/20220428T150000/\n\n\n\nAgenda\n\n#### Pending Issue Review\nhttp
 s://github.com/w3c/i18n-activity/issues?q=is%3Aissue+is%3Aopen+label%3Apen
 ding\n\n#### Changes to specdev\, fate of "developing specs"\nhttps://list
 s.w3.org/Archives/Member/member-i18n-core/2022Apr/0006.html\nhttps://lists
 .w3.org/Archives/Member/member-i18n-core/2022Apr/0007.html\nhttps://www.w3
 .org/International/techniques/developing-specs.en\n\n#### String-Meta Prog
 ress\n\n### BE PREPARED \n\nTBD\n\n### REMINDER \n\nGetting too many of th
 ese notifications? Read [this](https://lists.w3.org/Archives/Member/member
 -i18n-core/2022Mar/0013.html) email from Richard on how to manage notifica
 tions.\n\n### SCRIBE \n\nIf you are set to scribe and cannot make it\, ple
 ase send regrets to the chair. Volunteers to act as scribe cheerfully acce
 pted.\n\nBert [2022-03-31]\nFuqiao [2022-04-07]\nAtsushi [2022-04-14]\nFel
 ix [2022-04-21]\n\n### MEETING INFO\n\nhttps://www.w3.org/2017/09/i18n-mee
 ting-info.html (Member Only Link)\n\n### AGENDA \n\nTopic: Agenda Review\n
 \nTopic: Action Items\nhttp://www.w3.org/International/track/actions/open\
 n\nTopic: Info Share\n\nTopic: RADAR Review\nhttps://github.com/w3c/i18n-r
 equest/projects/1\n\nTopic: Pending Issue Review\n\nTopic: Changes to spec
 dev\, fate of "developing specs"\n\nTopic: String-Meta progress\n\nTopic: 
 AOB?\n\n### Chair's Link Farm\nhttps://www.w3.org/International/track/acti
 ons/open\nhttps://github.com/w3c/i18n-request/projects/1\nhttps://github.c
 om/w3c/i18n-activity/issues?q=is%3Aissue+is%3Aopen+label%3Apending
STATUS:CONFIRMED
CREATED:20220426T171404Z
LAST-MODIFIED:20220426T171405Z
SEQUENCE:3
ORGANIZER;CN=W3C Calendar;PARTSTAT=ACCEPTED;ROLE=NON-PARTICIPANT:mailto:nor
 eply@w3.org
ATTENDEE;CUTYPE=GROUP;ROLE=OPT-PARTICIPANT;RSVP=FALSE;CN=Internationalizati
 on Working Group:mailto:public-i18n-core@w3.org
LOCATION:https://www.w3.org/2017/09/i18n-meeting-info.html
RECURRENCE-ID;TZID=Europe/London:20220428T150000
END:VEVENT
END:VCALENDAR
