BEGIN:VCALENDAR
VERSION:2.0
PRODID:-//Sabre//Sabre VObject 4.5.8//EN
CALSCALE:GREGORIAN
LAST-MODIFIED:20220329T151942Z
BEGIN:VTIMEZONE
TZID:Europe/London
X-MICROSOFT-CDO-TZID:1
BEGIN:STANDARD
DTSTART:20211031T010000
TZOFFSETFROM:+0100
TZOFFSETTO:+0000
TZNAME:GMT
END:STANDARD
BEGIN:STANDARD
DTSTART:20221030T010000
TZOFFSETFROM:+0100
TZOFFSETTO:+0000
TZNAME:GMT
END:STANDARD
BEGIN:DAYLIGHT
DTSTART:20220327T010000
TZOFFSETFROM:+0000
TZOFFSETTO:+0100
TZNAME:BST
END:DAYLIGHT
END:VTIMEZONE
BEGIN:VEVENT
UID:83b1d2d3-7389-437a-b0d5-32441827a9a3
DTSTAMP:20220329T151942Z
SUMMARY:W3C Internationalization Working Group Teleconference
DTSTART;TZID=Europe/London:20220331T150000
DTEND;TZID=Europe/London:20220331T160000
DESCRIPTION:https://www.w3.org/events/meetings/83b1d2d3-7389-437a-b0d5-3244
 1827a9a3/20220331T150000/\n\n\n\nAgenda\n\n### Response to TAG\nhttps://gi
 thub.com/w3ctag/design-reviews/issues/716\nhttps://lists.w3.org/Archives/M
 ember/member-i18n-core/2022Mar/0009.html\n\n### Specdev text regarding ide
 ntifiers\nhttps://github.com/w3c/bp-i18n-specdev/pull/61\nhttps://pr-previ
 ew.s3.amazonaws.com/aphillips/bp-i18n-specdev/pull/61.html#markup_identifi
 ers\n\n### CSS Text pending issues\nhttps://lists.w3.org/Archives/Member/m
 ember-i18n-core/2022Mar/0014.html\nhttps://github.com/w3c/i18n-activity/is
 sues?q=is%3Aissue+is%3Aopen+label%3Apending+label%3As%3Acss-text\n\n\n=== 
 BE PREPARED ===\n\n\n=== REMINDER ===\n\n**Daylight Savings/Summer Time** 
 changes in your local time zone may affect the wall time of this meeting. 
 This meeting is scheduled in the `Europe/London` time zone!! As a reminder
 \, this time zone has recently switched to Summer Time.\n\nGetting too man
 y of these notifications? Read [this](https://lists.w3.org/Archives/Member
 /member-i18n-core/2022Mar/0013.html) email from Richard on how to manage n
 otifications.\n\n=== SCRIBE ===\n\nIf you are set to scribe and cannot mak
 e it\, please send regrets to the chair. Volunteers to act as scribe cheer
 fully accepted.\n\nFelix\nBert [2022-01-20]\nFuqiao\nAtsushi [2022-03-17]\
 n\n=== MEETING INFO ===\n\nhttps://www.w3.org/2017/09/i18n-meeting-info.ht
 ml (Member Only Link)\n\n=== AGENDA ===\n\nTopic: Agenda Review\n\nTopic: 
 Action Items\nhttp://www.w3.org/International/track/actions/open\n\nTopic:
  Info Share\n\nTopic: RADAR Review\nhttps://github.com/w3c/i18n-request/pr
 ojects/1\n\nTopic: Specdev text regarding identifiers\n\nTopic: Response t
 o TAG\n\nTopic: CSS Text pending issues\n\nTopic: AOB?\n\n=== Chair's Link
  Farm ===\nhttps://www.w3.org/International/track/actions/open\nhttps://gi
 thub.com/w3c/i18n-request/projects/1\nhttps://github.com/w3c/i18n-activity
 /issues?q=is%3Aissue+is%3Aopen+label%3Apending
STATUS:CONFIRMED
CREATED:20220329T151941Z
LAST-MODIFIED:20220329T151942Z
SEQUENCE:3
ORGANIZER;CN=W3C Calendar;PARTSTAT=ACCEPTED;ROLE=NON-PARTICIPANT:mailto:nor
 eply@w3.org
ATTENDEE;CUTYPE=GROUP;ROLE=OPT-PARTICIPANT;RSVP=FALSE;CN=Internationalizati
 on Working Group:mailto:public-i18n-core@w3.org
LOCATION:https://www.w3.org/2017/09/i18n-meeting-info.html
RECURRENCE-ID;TZID=Europe/London:20220331T150000
END:VEVENT
END:VCALENDAR
