BEGIN:VCALENDAR
VERSION:2.0
PRODID:-//Sabre//Sabre VObject 4.5.8//EN
CALSCALE:GREGORIAN
LAST-MODIFIED:20220322T145032Z
BEGIN:VTIMEZONE
TZID:Europe/London
X-MICROSOFT-CDO-TZID:1
BEGIN:STANDARD
DTSTART:20211031T010000
TZOFFSETFROM:+0100
TZOFFSETTO:+0000
TZNAME:GMT
END:STANDARD
BEGIN:DAYLIGHT
DTSTART:20220327T010000
TZOFFSETFROM:+0000
TZOFFSETTO:+0100
TZNAME:BST
END:DAYLIGHT
END:VTIMEZONE
BEGIN:VEVENT
UID:83b1d2d3-7389-437a-b0d5-32441827a9a3
DTSTAMP:20220322T145032Z
SUMMARY:W3C Internationalization Working Group Teleconference
DTSTART;TZID=Europe/London:20220324T150000
DTEND;TZID=Europe/London:20220324T160000
DESCRIPTION:https://www.w3.org/events/meetings/83b1d2d3-7389-437a-b0d5-3244
 1827a9a3/20220324T150000/\n\n\n\nAgenda\n\n### Response to TAG\nhttps://gi
 thub.com/w3ctag/design-reviews/issues/716\nhttps://lists.w3.org/Archives/M
 ember/member-i18n-core/2022Mar/0009.html\n\n### Specdev text regarding ide
 ntifiers\nhttps://github.com/w3c/bp-i18n-specdev/pull/61\nhttps://pr-previ
 ew.s3.amazonaws.com/aphillips/bp-i18n-specdev/pull/61.html#markup_identifi
 ers\n\n### CSS Text pending issues\nhttps://github.com/w3c/i18n-activity/i
 ssues?q=is%3Aissue+is%3Aopen+label%3Apending+label%3As%3Acss-text\n\n\n===
  BE PREPARED ===\n\nReview: https://lists.w3.org/Archives/Member/member-i1
 8n-core/2022Mar/0009.html\nRead proposed new section about identifers: htt
 ps://pr-preview.s3.amazonaws.com/aphillips/bp-i18n-specdev/pull/61.html#ma
 rkup_identifiers\n\n\n=== REMINDER ===\n\n**Daylight Savings/Summer Time**
  changes in your local time zone may affect the wall time of this meeting.
  This meeting is scheduled in the `Europe/London` time zone!! For attendee
 s in North America\, this meeting will be one hour later that usual.\n\n==
 = SCRIBE ===\n\nIf you are set to scribe and cannot make it\, please send 
 regrets to the chair. Volunteers to act as scribe cheerfully accepted.\n\n
 Felix\nBert [2022-01-20]\nAtsushi [2022-03-10]\nFuqiao\n\n=== MEETING INFO
  ===\n\nhttps://www.w3.org/2017/09/i18n-meeting-info.html (Member Only Lin
 k)\n\n=== AGENDA ===\n\nTopic: Agenda Review\n\nTopic: Action Items\nhttp:
 //www.w3.org/International/track/actions/open\n\nTopic: Info Share\n\nTopi
 c: RADAR Review\nhttps://github.com/w3c/i18n-request/projects/1\n\nTopic: 
 Specdev text regarding identifiers\n\nTopic: Response to TAG\nhttps://gith
 ub.com/w3ctag/design-reviews/issues/716\n\nTopic: CSS Text pending issues\
 nhttps://github.com/w3c/i18n-activity/issues?q=is%3Aissue+is%3Aopen+label%
 3Apending+label%3As%3Acss-text\n\nTopic: AOB?\n\n=== Chair's Link Farm ===
 \nhttps://www.w3.org/International/track/actions/open\nhttps://github.com/
 w3c/i18n-request/projects/1\nhttps://github.com/w3c/i18n-activity/issues?q
 =is%3Aissue+is%3Aopen+label%3Apending
STATUS:CONFIRMED
CREATED:20220322T144348Z
LAST-MODIFIED:20220322T145032Z
SEQUENCE:3
ORGANIZER;CN=W3C Calendar;PARTSTAT=ACCEPTED;ROLE=NON-PARTICIPANT:mailto:nor
 eply@w3.org
ATTENDEE;CUTYPE=GROUP;ROLE=OPT-PARTICIPANT;RSVP=FALSE;CN=Internationalizati
 on Working Group:mailto:public-i18n-core@w3.org
LOCATION:https://www.w3.org/2017/09/i18n-meeting-info.html
RECURRENCE-ID;TZID=Europe/London:20220324T150000
END:VEVENT
END:VCALENDAR
