BEGIN:VCALENDAR
VERSION:2.0
PRODID:-//Sabre//Sabre VObject 4.5.8//EN
CALSCALE:GREGORIAN
LAST-MODIFIED:20220425T170057Z
BEGIN:VTIMEZONE
TZID:Europe/Vienna
BEGIN:STANDARD
DTSTART:20211031T010000
TZOFFSETFROM:+0200
TZOFFSETTO:+0100
TZNAME:CET
END:STANDARD
BEGIN:STANDARD
DTSTART:20221030T010000
TZOFFSETFROM:+0200
TZOFFSETTO:+0100
TZNAME:CET
END:STANDARD
BEGIN:DAYLIGHT
DTSTART:20220327T010000
TZOFFSETFROM:+0100
TZOFFSETTO:+0200
TZNAME:CEST
END:DAYLIGHT
END:VTIMEZONE
BEGIN:VEVENT
UID:83591513-6bcf-4398-8274-d81e3cf78e89
DTSTAMP:20220425T170057Z
SUMMARY:ACT Task Force - Surveys due this Thursday
DTSTART;TZID=Europe/Vienna:20220428T150000
DTEND;TZID=Europe/Vienna:20220428T160000
DESCRIPTION:https://www.w3.org/events/meetings/83591513-6bcf-4398-8274-d81e
 3cf78e89/20220428T150000/\n\nPlease see the agenda for the two surveys tha
 t are due before our weekly Thursday meeting of the [ACT Task Force](https
 ://www.w3.org/groups/tf/wcag-act).\n\nAgenda: https://www.w3.org/WAI/GL/ta
 sk-forces/conformance-testing/wiki/ACT_Task_Force_Meeting_Agenda
STATUS:CONFIRMED
CREATED:20220425T170056Z
LAST-MODIFIED:20220425T170057Z
SEQUENCE:5
ORGANIZER;CN=W3C Calendar;PARTSTAT=ACCEPTED;ROLE=NON-PARTICIPANT:mailto:nor
 eply@w3.org
ATTENDEE;CUTYPE=GROUP;ROLE=OPT-PARTICIPANT;RSVP=FALSE;CN=Accessibility Conf
 ormance Testing (ACT) Task Force:mailto:public-wcag-act@w3.org
RECURRENCE-ID;TZID=Europe/Vienna:20220428T150000
END:VEVENT
END:VCALENDAR
