BEGIN:VCALENDAR
VERSION:2.0
PRODID:-//Sabre//Sabre VObject 4.5.8//EN
CALSCALE:GREGORIAN
LAST-MODIFIED:20260128T053706Z
BEGIN:VTIMEZONE
TZID:America/Los_Angeles
X-MICROSOFT-CDO-TZID:13
BEGIN:DAYLIGHT
DTSTART:20250309T100000
TZOFFSETFROM:-0800
TZOFFSETTO:-0700
TZNAME:PDT
END:DAYLIGHT
BEGIN:DAYLIGHT
DTSTART:20260308T100000
TZOFFSETFROM:-0800
TZOFFSETTO:-0700
TZNAME:PDT
END:DAYLIGHT
BEGIN:STANDARD
DTSTART:20251102T090000
TZOFFSETFROM:-0700
TZOFFSETTO:-0800
TZNAME:PST
END:STANDARD
END:VTIMEZONE
BEGIN:VEVENT
UID:82ca048f-1508-4200-bdea-8bbb06168e82
DTSTAMP:20260128T053706Z
SUMMARY:ARIA and Assistive Technologies Community Group Biweekly Teleconfer
 ence
DTSTART;TZID=America/Los_Angeles:20260128T090000
DTEND;TZID=America/Los_Angeles:20260128T100000
DESCRIPTION:https://www.w3.org/events/meetings/82ca048f-1508-4200-bdea-8bbb
 06168e82/20260128T090000/\n\nBiweekly meeting focused primarily on generat
 ing ARIA-AT reports via manual testing.\n\nAgenda: https://github.com/w3c/
 aria-at/wiki/January-28%2C-2026-Agenda\n\nAgenda\n\n### Review agenda and 
 next meeting dates\n\n* Requests for changes to agenda?\n* Next CG meeting
 : Wednesday February 11\n* Next AT Driver Subgroup meeting: TBD\n\n### Cur
 rent interop reporting status\n* Still working on refactor of grid test pl
 an.\n* [Test plan update tracker in Google Sheets](https://docs.google.com
 /spreadsheets/d/14QIhQB9ufdUdZNhb3TNZzoZkGBq0oHawft-S5pm0ioY/edit?gid=0#gi
 d=0)\n\n#### plans in draft review\n\nIn progress:\n1. [Checkbox (Two Stat
 e)](https://aria-at.w3.org/data-management/apg/checkbox)\n1. [Quantity Spi
 n Button](https://aria-at.w3.org/data-management/apg/quantity-spin-button)
 \n1. [Switch Example Using HTML Checkbox Input](https://www.w3.org/WAI/ARI
 A/apg/patterns/switch/examples/switch-checkbox/)\n1. [Tabs with Automatic 
 Activation](https://aria-at.w3.org/data-management/tabs-automatic-activati
 on)\n1. 14 Automated report updates\n\nOn hold:\n1. [Rating Radio Group Ex
 ample](https://www.w3.org/WAI/ARIA/apg/patterns/radio/examples/radio-ratin
 g/)\n    * NVDA reports blocked by potential need to revise arrow key comm
 ands in test plans ([issue 1246](https://github.com/w3c/aria-at/issues/124
 6))\n\n#### Coming next to draft review\n\n* Simple data grid\n\n#### 18 p
 lans in candidate review\n\nPlan | Vispero | Apple\n--- | --- | ---\n[Acco
 rdion](https://aria-at.w3.org/data-management/accordion)|Not Started|Not S
 tarted\n[Action Menu Button Example Using aria-activedescendant](https://a
 ria-at.w3.org/data-management/menu-button-actions-active-descendant) | In 
 Review | In Review\n[Action Menu Button Example Using element.focus](https
 ://aria-at.w3.org/data-management/menu-button-actions) | Not Started | Not
  Started\n[Alert](https://aria-at.w3.org/data-management/alert)| Approved 
 | In Review\n[Color Viewer Slider](https://aria-at.w3.org/data-management/
 horizontal-slider) | in review | Not started\n[Command Button](https://ari
 a-at.w3.org/data-management/command-button)| Approved | In review\n[Disclo
 sure Navigation Menu Example](https://aria-at.w3.org/data-management/discl
 osure-navigation) | In Review | Not Started\n[Disclosure of Answers to Fre
 quently Asked Questions](https://aria-at.w3.org/data-management/disclosure
 -faq)|Not Started|Not Started\n[Media Seek Slider](https://aria-at.w3.org/
 data-management/seek-slider) | In Review | Not started\n[Modal Dialog](htt
 ps://aria-at.w3.org/data-management/modal-dialog) | Approved | Not started
 \n[Navigation Menu Button](https://aria-at.w3.org/data-management/menu-but
 ton-navigation) | Not Started | Not started\n[Radio Group Example Using ar
 ia-activedescendant](https://aria-at.w3.org/data-management/radiogroup-ari
 a-activedescendant)| Approved | Not started\n[Radio Group Example Using Ro
 ving tabindex](https://aria-at.w3.org/data-management/radiogroup-roving-ta
 bindex)|In Review|Not started\n[Switch](https://aria-at.w3.org/data-manage
 ment/switch)|Not Started|Not Started\n[Switch Example Using HTML Button](h
 ttps://www.w3.org/WAI/ARIA/apg/patterns/switch/examples/switch-button/)|No
 t Started|Not Started\n[Tabs with Manual Activation](https://aria-at.w3.or
 g/data-management/tabs-manual-activation)|Not Started|Not Started\n[Toggle
  Button](https://aria-at.w3.org/data-management/toggle-button)| approved |
  In review\n[Vertical Temperature Slider](https://aria-at.w3.org/data-mana
 gement/vertical-temperature-slider)|Not Started|Not Started\n\n### Checkbo
 x test plan status\n\n* VO in progress\, JAWS and NVDA complete.\n* VO run
 s by Dean and Joe complete.\n* [4 results conflicts in VoiceOver tests 1 a
 nd 3](https://aria-at.w3.org/test-queue/560/conflicts)\n* Question for Dea
 n: Did you capture output after first press of ctrl+opt+rightArrow?\n\n###
  Quantity spin button test plan status\n\n* Current version: [Quantity Spi
 n Button Example Test Plan V25.12.16](https://aria-at.w3.org/test-review/1
 63676)\n* JAWS and NVDA: Bots have bug. No estimate on fix yet.\n* JAWS: R
 un by Joe complete\; need one more tester.\n* NVDA: Run by Joe complete\; 
 need one more tester.\n* VO: Run by Murray complete\; waiting on results f
 rom Dean.\n\n### Update on test plan for switch using checkbox\n\n* Was pr
 eviously blocked by app issues related to resolution of conflicting result
 s.\n* App Issues are now resolved.\n* All testing is complete.\n* Before a
 dvancing to candidate\, need to resolve one issue\n* [Test Plan Feedback: 
 Remove Enter from VO commands for "Operate a switch"\, tests 7 and 8 in "S
 witch Example Using HTML Checkbox Input V25.10.06" · Issue #1361 · w3c/a
 ria-at](https://github.com/w3c/aria-at/issues/1361)\n\n### Auto-update rep
 ort reviews\n\n* No action needed this week\; Matt reviewing and finalizin
 g reports.\n* Joe has validated 10 of 13 JAWS runs\n    \n### Request for 
 change to alert test plan\n\n[VoiceOver for macOS Changes Requested: "Trig
 ger an alert" (Alert Example\, Test 1\, V24.04.26) for Candidate Report ·
  Issue #1316 · w3c/aria-at](https://github.com/w3c/aria-at/issues/1316)
STATUS:CONFIRMED
CREATED:20260128T053704Z
LAST-MODIFIED:20260128T053706Z
SEQUENCE:2
ORGANIZER;CN=W3C Calendar;PARTSTAT=ACCEPTED;ROLE=NON-PARTICIPANT:mailto:nor
 eply@w3.org
ATTENDEE;CUTYPE=GROUP;ROLE=OPT-PARTICIPANT;RSVP=FALSE;CN=ARIA and Assistive
  Technologies Community Group:mailto:public-aria-at@w3.org
RECURRENCE-ID;TZID=America/Los_Angeles:20260128T090000
END:VEVENT
END:VCALENDAR
