BEGIN:VCALENDAR
VERSION:2.0
PRODID:-//Sabre//Sabre VObject 4.5.8//EN
CALSCALE:GREGORIAN
LAST-MODIFIED:20230420T070331Z
BEGIN:VTIMEZONE
TZID:Etc/UTC
BEGIN:STANDARD
DTSTART:20220430T130000
TZOFFSETFROM:+0000
TZOFFSETTO:+0000
TZNAME:UTC
END:STANDARD
END:VTIMEZONE
BEGIN:VEVENT
UID:82b28bb3-8a0e-4731-8104-368b16e54d85
DTSTAMP:20230420T070331Z
SUMMARY:Board Governance Meeting
DTSTART;TZID=Etc/UTC:20230425T130000
DTEND;TZID=Etc/UTC:20230425T140000
DESCRIPTION:https://www.w3.org/events/meetings/82b28bb3-8a0e-4731-8104-368b
 16e54d85/\n\n\n\nAgenda\n\n1. Approve minutes\, 2023-04-11\n2. Discuss nom
 inated issues: https://github.com/w3c-bod/governance/labels/Agenda%2B\n3. 
 Review issues for discussion in May F2F: https://github.com/w3c-bod/govern
 ance/labels/needs%20board%20discussion
STATUS:CONFIRMED
CREATED:20230405T042959Z
LAST-MODIFIED:20230420T070331Z
SEQUENCE:2
ORGANIZER;CN=W3C Calendar;PARTSTAT=ACCEPTED;ROLE=NON-PARTICIPANT:mailto:nor
 eply@w3.org
ATTENDEE;CUTYPE=GROUP;ROLE=OPT-PARTICIPANT;RSVP=FALSE;CN=Board Governance C
 ommittee:mailto:board-governance@w3.org
ATTENDEE;CUTYPE=GROUP;ROLE=OPT-PARTICIPANT;RSVP=FALSE;CN=Board of Directors
 :mailto:board@w3.org
END:VEVENT
END:VCALENDAR
