BEGIN:VCALENDAR
VERSION:2.0
PRODID:-//Sabre//Sabre VObject 4.5.8//EN
CALSCALE:GREGORIAN
LAST-MODIFIED:20251107T181330Z
BEGIN:VTIMEZONE
TZID:Asia/Tokyo
X-MICROSOFT-CDO-TZID:20
BEGIN:STANDARD
DTSTART:20241115T000000
TZOFFSETFROM:+0900
TZOFFSETTO:+0900
TZNAME:JST
END:STANDARD
END:VTIMEZONE
BEGIN:VEVENT
UID:827ca43f-43bf-438c-9e89-4045e301eae3
DTSTAMP:20251107T181330Z
SUMMARY:Accessible Rich Internet Applications Working Group
DTSTART;TZID=Asia/Tokyo:20251110T090000
DTEND;TZID=Asia/Tokyo:20251110T164500
DESCRIPTION:https://www.w3.org/events/meetings/827ca43f-43bf-438c-9e89-4045
 e301eae3/\n\n\n\nAgenda: https://github.com/w3c/aria/wiki/TPAC-2025-Kobe\,
 -Japan-Agenda#monday-nov-10-2025
STATUS:CONFIRMED
CREATED:20251106T161014Z
LAST-MODIFIED:20251107T181330Z
SEQUENCE:0
ORGANIZER;CN=W3C Calendar;PARTSTAT=ACCEPTED;ROLE=NON-PARTICIPANT:mailto:nor
 eply@w3.org
ATTENDEE;CUTYPE=GROUP;ROLE=OPT-PARTICIPANT;RSVP=FALSE;CN=Accessible Rich In
 ternet Applications Working Group:mailto:public-aria@w3.org
LOCATION:Floor 5 - 504
CATEGORIES:TPAC 2025,Group Meetings
END:VEVENT
END:VCALENDAR
