BEGIN:VCALENDAR
VERSION:2.0
PRODID:-//Sabre//Sabre VObject 4.5.8//EN
CALSCALE:GREGORIAN
LAST-MODIFIED:20231003T135539Z
BEGIN:VTIMEZONE
TZID:Etc/UTC
BEGIN:STANDARD
DTSTART:20211023T150000
TZOFFSETFROM:+0000
TZOFFSETTO:+0000
TZNAME:UTC
END:STANDARD
END:VTIMEZONE
BEGIN:VEVENT
UID:82069124-f954-4fbf-a133-34fec589b460
DTSTAMP:20231003T135539Z
SUMMARY:WebRTC WG October 2022 call
DTSTART;TZID=Etc/UTC:20221018T150000
DTEND;TZID=Etc/UTC:20221018T170000
DESCRIPTION:https://www.w3.org/events/meetings/82069124-f954-4fbf-a133-34fe
 c589b460/\n\n\n\nAgenda: https://www.w3.org/2011/04/webrtc/wiki/October_18
 _2022
STATUS:CONFIRMED
CREATED:20220919T095555Z
LAST-MODIFIED:20231003T135539Z
SEQUENCE:1
ORGANIZER;CN=W3C Calendar;PARTSTAT=ACCEPTED;ROLE=NON-PARTICIPANT:mailto:nor
 eply@w3.org
ATTENDEE;CUTYPE=GROUP;ROLE=OPT-PARTICIPANT;RSVP=FALSE;CN=Web Real-Time Comm
 unications Working Group:mailto:public-webrtc@w3.org
END:VEVENT
END:VCALENDAR
