BEGIN:VCALENDAR
VERSION:2.0
PRODID:-//Sabre//Sabre VObject 4.5.8//EN
CALSCALE:GREGORIAN
LAST-MODIFIED:20211026T162403Z
BEGIN:VTIMEZONE
TZID:Etc/UTC
BEGIN:STANDARD
DTSTART:20201031T140000
TZOFFSETFROM:+0000
TZOFFSETTO:+0000
TZNAME:UTC
END:STANDARD
END:VTIMEZONE
BEGIN:VEVENT
UID:81d215c7-f4c2-4697-a4b4-985efba5427e
DTSTAMP:20211026T162403Z
SUMMARY:TPAC 2021 Joint Meeting of WebRTC\, Media and Audio Working Groups
DTSTART;TZID=Etc/UTC:20211026T140000
DTEND;TZID=Etc/UTC:20211026T160000
DESCRIPTION:https://www.w3.org/events/meetings/81d215c7-f4c2-4697-a4b4-985e
 fba5427e/\n\n\n\nAgenda: https://www.w3.org/2011/04/webrtc/wiki/TPAC_2021#
 Joint_WebRTC.2FMedia.2FAudio_WG_Meeting
STATUS:CONFIRMED
CREATED:20211008T091046Z
LAST-MODIFIED:20211026T162403Z
SEQUENCE:2
ORGANIZER;CN=W3C Calendar;PARTSTAT=ACCEPTED;ROLE=NON-PARTICIPANT:mailto:nor
 eply@w3.org
ATTENDEE;CUTYPE=GROUP;ROLE=OPT-PARTICIPANT;RSVP=FALSE;CN=Audio Working Grou
 p:mailto:public-audio@w3.org
ATTENDEE;CUTYPE=GROUP;ROLE=OPT-PARTICIPANT;RSVP=FALSE;CN=Media Working Grou
 p:mailto:public-media-wg@w3.org
ATTENDEE;CUTYPE=GROUP;ROLE=OPT-PARTICIPANT;RSVP=FALSE;CN=Web Real-Time Comm
 unications Working Group:mailto:public-webrtc@w3.org
END:VEVENT
END:VCALENDAR
