BEGIN:VCALENDAR
VERSION:2.0
PRODID:-//Sabre//Sabre VObject 4.5.8//EN
CALSCALE:GREGORIAN
LAST-MODIFIED:20230919T185941Z
BEGIN:VTIMEZONE
TZID:America/New_York
X-MICROSOFT-CDO-TZID:10
BEGIN:STANDARD
DTSTART:20221106T060000
TZOFFSETFROM:-0400
TZOFFSETTO:-0500
TZNAME:EST
END:STANDARD
BEGIN:STANDARD
DTSTART:20231105T060000
TZOFFSETFROM:-0400
TZOFFSETTO:-0500
TZNAME:EST
END:STANDARD
BEGIN:DAYLIGHT
DTSTART:20230312T070000
TZOFFSETFROM:-0500
TZOFFSETTO:-0400
TZNAME:EDT
END:DAYLIGHT
END:VTIMEZONE
BEGIN:VEVENT
UID:81b160c0-8a1a-442d-a0af-2bcfde394282
DTSTAMP:20230919T185941Z
SUMMARY:WebAppSec WG meeting
DTSTART;TZID=America/New_York:20230920T120000
DTEND;TZID=America/New_York:20230920T130000
DESCRIPTION:https://www.w3.org/events/meetings/81b160c0-8a1a-442d-a0af-2bcf
 de394282/20230920T120000/\n\nSince we just met up last week\, we will not 
 have a meeting this week.\nLooking forward to getting back together on Oct
 ober 18th to continue\ndiscussions.\n\nAgenda: https://www.w3.org/Search/M
 ail/Public/search?keywords=&hdr-1-name=subject&hdr-1-query=agenda&index-gr
 p=Public_FULL&index-type=t&type-index=public-webappsec
STATUS:CANCELLED
CREATED:20230919T185941Z
LAST-MODIFIED:20230919T185941Z
SEQUENCE:3
ORGANIZER;CN=W3C Calendar;PARTSTAT=ACCEPTED;ROLE=NON-PARTICIPANT:mailto:nor
 eply@w3.org
ATTENDEE;CUTYPE=GROUP;ROLE=OPT-PARTICIPANT;RSVP=FALSE;CN=Web Application Se
 curity Working Group:mailto:public-webappsec@w3.org
RECURRENCE-ID;TZID=America/New_York:20230920T120000
END:VEVENT
END:VCALENDAR
