BEGIN:VCALENDAR
VERSION:2.0
PRODID:-//Sabre//Sabre VObject 4.5.8//EN
CALSCALE:GREGORIAN
LAST-MODIFIED:20220519T082838Z
BEGIN:VTIMEZONE
TZID:Etc/UTC
BEGIN:STANDARD
DTSTART:20210613T060000
TZOFFSETFROM:+0000
TZOFFSETTO:+0000
TZNAME:UTC
END:STANDARD
END:VTIMEZONE
BEGIN:VEVENT
UID:810c51c9-1caf-4057-938a-f59b589be71e
DTSTAMP:20220519T082838Z
SUMMARY:Second Screen WG/CG - 2022 Q2 virtual meeting - Day 2
DTSTART;TZID=Etc/UTC:20220608T060000
DTEND;TZID=Etc/UTC:20220608T073000
DESCRIPTION:https://www.w3.org/events/meetings/810c51c9-1caf-4057-938a-f59b
 589be71e/\n\n\n\nAgenda: https://github.com/w3c/secondscreen-wg/issues/4
STATUS:CONFIRMED
CREATED:20220518T082537Z
LAST-MODIFIED:20220519T082838Z
SEQUENCE:3
ORGANIZER;CN=W3C Calendar;PARTSTAT=ACCEPTED;ROLE=NON-PARTICIPANT:mailto:nor
 eply@w3.org
ATTENDEE;CUTYPE=GROUP;ROLE=OPT-PARTICIPANT;RSVP=FALSE;CN=Second Screen Comm
 unity Group:mailto:public-webscreens@w3.org
ATTENDEE;CUTYPE=GROUP;ROLE=OPT-PARTICIPANT;RSVP=FALSE;CN=Second Screen Work
 ing Group:mailto:public-secondscreen@w3.org
END:VEVENT
END:VCALENDAR
