BEGIN:VCALENDAR
VERSION:2.0
PRODID:-//Sabre//Sabre VObject 4.5.8//EN
CALSCALE:GREGORIAN
LAST-MODIFIED:20230603T144929Z
BEGIN:VTIMEZONE
TZID:America/New_York
X-MICROSOFT-CDO-TZID:10
BEGIN:STANDARD
DTSTART:20221106T060000
TZOFFSETFROM:-0400
TZOFFSETTO:-0500
TZNAME:EST
END:STANDARD
BEGIN:STANDARD
DTSTART:20231105T060000
TZOFFSETFROM:-0400
TZOFFSETTO:-0500
TZNAME:EST
END:STANDARD
BEGIN:DAYLIGHT
DTSTART:20230312T070000
TZOFFSETFROM:-0500
TZOFFSETTO:-0400
TZNAME:EDT
END:DAYLIGHT
END:VTIMEZONE
BEGIN:VEVENT
UID:80a1023e-569b-4714-8fab-d1b84f2c3478
DTSTAMP:20230603T144929Z
SUMMARY:W3C Credentials Community Group - SVIP Digital Credential Wallet an
 d Verifier Solicitation
DTSTART;TZID=America/New_York:20230815T120000
DTEND;TZID=America/New_York:20230815T125000
DESCRIPTION:https://www.w3.org/events/meetings/80a1023e-569b-4714-8fab-d1b8
 4f2c3478/20230815T120000/\n\nMEETING LINKS:\nJitsi Teleconf:\n      https:
 //meet.w3c-ccg.org/weekly\nText Chat:\n      http://irc.w3.org/?channels=c
 cg\n      irc://irc.w3.org:6665/#ccg\nVoice:\n     US phone: tel:+1.602.93
 2.2243\;1\n\nMINUTES FROM LAST MEETING:\nhttps://w3c-ccg.github.io/meeting
 s/\n\nPROPOSED AGENDA:\n1. Agenda Review \n2. Code of Ethics & Professiona
 l Conduct Reminder https://www.w3.org/Consortium/cepc/ \n3. IP Note: \nAny
 one can participate in these calls. However\, all substantive contributors
  to any CCG Work Items must be members of the CCG with full IPR agreements
  signed. https://www.w3.org/community/credentials/join\n    a. Ensure you 
 have a W3 account: https://www.w3.org/accounts/request\n    b. W3C COMMUNI
 TY CONTRIBUTOR LICENSE AGREEMENT (CLA):\nhttps://www.w3.org/community/abou
 t/agreements/cla/\n4. Call Notes \n    a. These minutes and an audio recor
 ding of everything said on this call are archived at https://w3c-ccg.githu
 b.io/meetings/\n    b. We use IRC to queue speakers during the call as wel
 l as to take minutes. http://irc.w3.org/?channels=ccg or http://irc.w3.org
 :6665/#ccg or the Jitsi text chat.\n    c. In IRC type “q+” to add you
 rself to the queue\, with an optional reminder\, e.g.\, “q+ to mention s
 omething”. The “to” is required.\n    d. If you’re not on the chat
 \, simply ask to be put on the queue.\n    e. Please be brief so the rest 
 of the queue get a chance to chime in. You can always q+ again.\n    f. NO
 TE: This meeting is held by voice\, not by IRC. Off-topic IRC comments are
  subject to deletion from the record. We work hard to manage a single thre
 ad of conversation so everyone can participate and be heard. Please respec
 t the group process by joining the queue when you have something to contri
 bute.\n5. Optional Scribe Selection \nWe need a volunteer to scribe in cas
 e auto transcription fails. Scribe List:\nhttps://docs.google.com/document
 /d/1LkqZ10z7FeV3EgMIQEJ9achEYMzy1d_2S90Q_lQ0y8M/edit?usp=sharing\n6. Intro
 ductions & Reintroductions (see scribe doc for reintroduce column)\n7. Ann
 ouncements & Reminders https://w3c-ccg.github.io/announcements/\n8. Progre
 ss on Action Items \nhttps://github.com/w3c-ccg/community/issues?q=is%3Aop
 en+is%3Aissue+label%3A%22action%3A+review+next%22\n9. Presentations\n10. G
 eneral Q&A
STATUS:CONFIRMED
CREATED:20230524T230250Z
LAST-MODIFIED:20230603T144929Z
SEQUENCE:2
ORGANIZER;CN=W3C Calendar;PARTSTAT=ACCEPTED;ROLE=NON-PARTICIPANT:mailto:nor
 eply@w3.org
ATTENDEE;CUTYPE=GROUP;ROLE=OPT-PARTICIPANT;RSVP=FALSE;CN=Credentials Commun
 ity Group:mailto:public-credentials@w3.org
LOCATION:https://meet.w3c-ccg.org/weekly
RECURRENCE-ID;TZID=America/New_York:20230815T120000
END:VEVENT
END:VCALENDAR
