BEGIN:VCALENDAR
VERSION:2.0
PRODID:-//Sabre//Sabre VObject 4.5.8//EN
CALSCALE:GREGORIAN
LAST-MODIFIED:20220927T170722Z
BEGIN:VTIMEZONE
TZID:America/New_York
X-MICROSOFT-CDO-TZID:10
BEGIN:STANDARD
DTSTART:20211107T060000
TZOFFSETFROM:-0400
TZOFFSETTO:-0500
TZNAME:EST
END:STANDARD
BEGIN:STANDARD
DTSTART:20221106T060000
TZOFFSETFROM:-0400
TZOFFSETTO:-0500
TZNAME:EST
END:STANDARD
BEGIN:DAYLIGHT
DTSTART:20220313T070000
TZOFFSETFROM:-0500
TZOFFSETTO:-0400
TZNAME:EDT
END:DAYLIGHT
END:VTIMEZONE
BEGIN:VEVENT
UID:80a1023e-569b-4714-8fab-d1b84f2c3478
DTSTAMP:20220927T170722Z
SUMMARY:W3C CCG Weekly Call - Does SSI-on-Blockchain Make Sense?
DTSTART;TZID=America/New_York:20221025T120000
DTEND;TZID=America/New_York:20221025T125000
DESCRIPTION:https://www.w3.org/events/meetings/80a1023e-569b-4714-8fab-d1b8
 4f2c3478/20221025T120000/\n\nSPECIAL PRESENTATION: \nDoes SSI-on-Blockchai
 n Make Sense?\nBy Niko Weh\n\nMEETING LINKS:\nJitsi Teleconf:\n      https
 ://meet.w3c-ccg.org/weekly\nText Chat:\n      http://irc.w3.org/?channels=
 ccg\n      irc://irc.w3.org:6665/#ccg\nVoice:\n     US phone: tel:+1.602.9
 32.2243\;1\n\nMINUTES FROM LAST MEETING:\nhttps://w3c-ccg.github.io/meetin
 gs/\n\nPROPOSED AGENDA:\n1. Agenda Review \n2. Code of Ethics & Profession
 al Conduct Reminder https://www.w3.org/Consortium/cepc/ \n3. IP Note: \nAn
 yone can participate in these calls. However\, all substantive contributor
 s to any CCG Work Items must be members of the CCG with full IPR agreement
 s signed. https://www.w3.org/community/credentials/join\n    a. Ensure you
  have a W3 account: https://www.w3.org/accounts/request\n    b. W3C COMMUN
 ITY CONTRIBUTOR LICENSE AGREEMENT (CLA):\nhttps://www.w3.org/community/abo
 ut/agreements/cla/\n4. Call Notes \n    a. These minutes and an audio reco
 rding of everything said on this call are archived at https://w3c-ccg.gith
 ub.io/meetings/\n    b. We use IRC to queue speakers during the call as we
 ll as to take minutes. http://irc.w3.org/?channels=ccg or http://irc.w3.or
 g:6665/#ccg or the Jitsi text chat.\n    c. In IRC type “q+” to add yo
 urself to the queue\, with an optional reminder\, e.g.\, “q+ to mention 
 something”. The “to” is required.\n    d. If you’re not on the cha
 t\, simply ask to be put on the queue.\n    e. Please be brief so the rest
  of the queue get a chance to chime in. You can always q+ again.\n    f. N
 OTE: This meeting is held by voice\, not by IRC. Off-topic IRC comments ar
 e subject to deletion from the record. We work hard to manage a single thr
 ead of conversation so everyone can participate and be heard. Please respe
 ct the group process by joining the queue when you have something to contr
 ibute.\n5. Optional Scribe Selection \nWe need a volunteer to scribe in ca
 se auto transcription fails. Scribe List:\nhttps://docs.google.com/documen
 t/d/1LkqZ10z7FeV3EgMIQEJ9achEYMzy1d_2S90Q_lQ0y8M/edit?usp=sharing\n6. Intr
 oductions & Reintroductions (see scribe doc for reintroduce column)\n7. An
 nouncements & Reminders https://w3c-ccg.github.io/announcements/\n8. Progr
 ess on Action Items \nhttps://github.com/w3c-ccg/community/issues?q=is%3Ao
 pen+is%3Aissue+label%3A%22action%3A+review+next%22\n9. Presentations\n10. 
 General Q&A
STATUS:CONFIRMED
CREATED:20220927T170719Z
LAST-MODIFIED:20220927T170722Z
SEQUENCE:2
ORGANIZER;CN=W3C Calendar;PARTSTAT=ACCEPTED;ROLE=NON-PARTICIPANT:mailto:nor
 eply@w3.org
ATTENDEE;CUTYPE=GROUP;ROLE=OPT-PARTICIPANT;RSVP=FALSE;CN=Credentials Commun
 ity Group:mailto:public-credentials@w3.org
LOCATION:https://meet.w3c-ccg.org/weekly
RECURRENCE-ID;TZID=America/New_York:20221025T120000
END:VEVENT
END:VCALENDAR
