BEGIN:VCALENDAR
VERSION:2.0
PRODID:-//Sabre//Sabre VObject 4.5.8//EN
CALSCALE:GREGORIAN
LAST-MODIFIED:20220927T170618Z
BEGIN:VTIMEZONE
TZID:America/New_York
X-MICROSOFT-CDO-TZID:10
BEGIN:STANDARD
DTSTART:20211107T060000
TZOFFSETFROM:-0400
TZOFFSETTO:-0500
TZNAME:EST
END:STANDARD
BEGIN:STANDARD
DTSTART:20221106T060000
TZOFFSETFROM:-0400
TZOFFSETTO:-0500
TZNAME:EST
END:STANDARD
BEGIN:DAYLIGHT
DTSTART:20220313T070000
TZOFFSETFROM:-0500
TZOFFSETTO:-0400
TZNAME:EDT
END:DAYLIGHT
END:VTIMEZONE
BEGIN:VEVENT
UID:80a1023e-569b-4714-8fab-d1b84f2c3478
DTSTAMP:20220927T170618Z
SUMMARY:W3C CCG Weekly Call - Ceramic.Network
DTSTART;TZID=America/New_York:20221018T120000
DTEND;TZID=America/New_York:20221018T125000
DESCRIPTION:https://www.w3.org/events/meetings/80a1023e-569b-4714-8fab-d1b8
 4f2c3478/20221018T120000/\n\nSPECIAL PRESENTATION\nCeramic.Network\nBy Mat
 thew Davis\n\nMEETING LINKS:\nJitsi Teleconf:\n      https://meet.w3c-ccg.
 org/weekly\nText Chat:\n      http://irc.w3.org/?channels=ccg\n      irc:/
 /irc.w3.org:6665/#ccg\nVoice:\n     US phone: tel:+1.602.932.2243\;1\n\nMI
 NUTES FROM LAST MEETING:\nhttps://w3c-ccg.github.io/meetings/\n\nPROPOSED 
 AGENDA:\n1. Agenda Review \n2. Code of Ethics & Professional Conduct Remin
 der https://www.w3.org/Consortium/cepc/ \n3. IP Note: \nAnyone can partici
 pate in these calls. However\, all substantive contributors to any CCG Wor
 k Items must be members of the CCG with full IPR agreements signed. https:
 //www.w3.org/community/credentials/join\n    a. Ensure you have a W3 accou
 nt: https://www.w3.org/accounts/request\n    b. W3C COMMUNITY CONTRIBUTOR 
 LICENSE AGREEMENT (CLA):\nhttps://www.w3.org/community/about/agreements/cl
 a/\n4. Call Notes \n    a. These minutes and an audio recording of everyth
 ing said on this call are archived at https://w3c-ccg.github.io/meetings/\
 n    b. We use IRC to queue speakers during the call as well as to take mi
 nutes. http://irc.w3.org/?channels=ccg or http://irc.w3.org:6665/#ccg or t
 he Jitsi text chat.\n    c. In IRC type “q+” to add yourself to the qu
 eue\, with an optional reminder\, e.g.\, “q+ to mention something”. Th
 e “to” is required.\n    d. If you’re not on the chat\, simply ask t
 o be put on the queue.\n    e. Please be brief so the rest of the queue ge
 t a chance to chime in. You can always q+ again.\n    f. NOTE: This meetin
 g is held by voice\, not by IRC. Off-topic IRC comments are subject to del
 etion from the record. We work hard to manage a single thread of conversat
 ion so everyone can participate and be heard. Please respect the group pro
 cess by joining the queue when you have something to contribute.\n5. Optio
 nal Scribe Selection \nWe need a volunteer to scribe in case auto transcri
 ption fails. Scribe List:\nhttps://docs.google.com/document/d/1LkqZ10z7FeV
 3EgMIQEJ9achEYMzy1d_2S90Q_lQ0y8M/edit?usp=sharing\n6. Introductions & Rein
 troductions (see scribe doc for reintroduce column)\n7. Announcements & Re
 minders https://w3c-ccg.github.io/announcements/\n8. Progress on Action It
 ems \nhttps://github.com/w3c-ccg/community/issues?q=is%3Aopen+is%3Aissue+l
 abel%3A%22action%3A+review+next%22\n9. Presentations\n10. General Q&A
STATUS:CONFIRMED
CREATED:20220927T170615Z
LAST-MODIFIED:20220927T170618Z
SEQUENCE:2
ORGANIZER;CN=W3C Calendar;PARTSTAT=ACCEPTED;ROLE=NON-PARTICIPANT:mailto:nor
 eply@w3.org
ATTENDEE;CUTYPE=GROUP;ROLE=OPT-PARTICIPANT;RSVP=FALSE;CN=Credentials Commun
 ity Group:mailto:public-credentials@w3.org
LOCATION:https://meet.w3c-ccg.org/weekly
RECURRENCE-ID;TZID=America/New_York:20221018T120000
END:VEVENT
END:VCALENDAR
