BEGIN:VCALENDAR
VERSION:2.0
PRODID:-//Sabre//Sabre VObject 4.5.8//EN
CALSCALE:GREGORIAN
LAST-MODIFIED:20220927T170307Z
BEGIN:VTIMEZONE
TZID:America/New_York
X-MICROSOFT-CDO-TZID:10
BEGIN:STANDARD
DTSTART:20211107T060000
TZOFFSETFROM:-0400
TZOFFSETTO:-0500
TZNAME:EST
END:STANDARD
BEGIN:STANDARD
DTSTART:20221106T060000
TZOFFSETFROM:-0400
TZOFFSETTO:-0500
TZNAME:EST
END:STANDARD
BEGIN:DAYLIGHT
DTSTART:20220313T070000
TZOFFSETFROM:-0500
TZOFFSETTO:-0400
TZNAME:EDT
END:DAYLIGHT
END:VTIMEZONE
BEGIN:VEVENT
UID:80a1023e-569b-4714-8fab-d1b84f2c3478
DTSTAMP:20220927T170307Z
SUMMARY:W3C CCG Weekly Call - Secure Asset Transfer Protocol (SATP)
DTSTART;TZID=America/New_York:20221011T120000
DTEND;TZID=America/New_York:20221011T125000
DESCRIPTION:https://www.w3.org/events/meetings/80a1023e-569b-4714-8fab-d1b8
 4f2c3478/20221011T120000/\n\nSPECIAL PRESENTATION:\nSecure Asset Transfer 
 Protocol (SATP)\nBy Thoms Hardjono \n\nMEETING LINKS:\nJitsi Teleconf:\n  
     https://meet.w3c-ccg.org/weekly\nText Chat:\n      http://irc.w3.org/?
 channels=ccg\n      irc://irc.w3.org:6665/#ccg\nVoice:\n     US phone: tel
 :+1.602.932.2243\;1\n\nMINUTES FROM LAST MEETING:\nhttps://w3c-ccg.github.
 io/meetings/\n\nPROPOSED AGENDA:\n1. Agenda Review \n2. Code of Ethics & P
 rofessional Conduct Reminder https://www.w3.org/Consortium/cepc/ \n3. IP N
 ote: \nAnyone can participate in these calls. However\, all substantive co
 ntributors to any CCG Work Items must be members of the CCG with full IPR 
 agreements signed. https://www.w3.org/community/credentials/join\n    a. E
 nsure you have a W3 account: https://www.w3.org/accounts/request\n    b. W
 3C COMMUNITY CONTRIBUTOR LICENSE AGREEMENT (CLA):\nhttps://www.w3.org/comm
 unity/about/agreements/cla/\n4. Call Notes \n    a. These minutes and an a
 udio recording of everything said on this call are archived at https://w3c
 -ccg.github.io/meetings/\n    b. We use IRC to queue speakers during the c
 all as well as to take minutes. http://irc.w3.org/?channels=ccg or http://
 irc.w3.org:6665/#ccg or the Jitsi text chat.\n    c. In IRC type “q+” 
 to add yourself to the queue\, with an optional reminder\, e.g.\, “q+ to
  mention something”. The “to” is required.\n    d. If you’re not o
 n the chat\, simply ask to be put on the queue.\n    e. Please be brief so
  the rest of the queue get a chance to chime in. You can always q+ again.\
 n    f. NOTE: This meeting is held by voice\, not by IRC. Off-topic IRC co
 mments are subject to deletion from the record. We work hard to manage a s
 ingle thread of conversation so everyone can participate and be heard. Ple
 ase respect the group process by joining the queue when you have something
  to contribute.\n5. Optional Scribe Selection \nWe need a volunteer to scr
 ibe in case auto transcription fails. Scribe List:\nhttps://docs.google.co
 m/document/d/1LkqZ10z7FeV3EgMIQEJ9achEYMzy1d_2S90Q_lQ0y8M/edit?usp=sharing
 \n6. Introductions & Reintroductions (see scribe doc for reintroduce colum
 n)\n7. Announcements & Reminders https://w3c-ccg.github.io/announcements/\
 n8. Progress on Action Items \nhttps://github.com/w3c-ccg/community/issues
 ?q=is%3Aopen+is%3Aissue+label%3A%22action%3A+review+next%22\n9. Presentati
 ons\n10. General Q&A
STATUS:CONFIRMED
CREATED:20220927T170303Z
LAST-MODIFIED:20220927T170307Z
SEQUENCE:2
ORGANIZER;CN=W3C Calendar;PARTSTAT=ACCEPTED;ROLE=NON-PARTICIPANT:mailto:nor
 eply@w3.org
ATTENDEE;CUTYPE=GROUP;ROLE=OPT-PARTICIPANT;RSVP=FALSE;CN=Credentials Commun
 ity Group:mailto:public-credentials@w3.org
LOCATION:https://meet.w3c-ccg.org/weekly
RECURRENCE-ID;TZID=America/New_York:20221011T120000
END:VEVENT
END:VCALENDAR
